BEGIN:VCALENDAR
VERSION:2.0
PRODID:-//Visit Båstad - ECPv6.15.14//NONSGML v1.0//EN
CALSCALE:GREGORIAN
METHOD:PUBLISH
X-ORIGINAL-URL:https://bastad.com
X-WR-CALDESC:Händelser för Visit Båstad
REFRESH-INTERVAL;VALUE=DURATION:PT1H
X-Robots-Tag:noindex
X-PUBLISHED-TTL:PT1H
BEGIN:VTIMEZONE
TZID:Europe/Stockholm
BEGIN:DAYLIGHT
TZOFFSETFROM:+0100
TZOFFSETTO:+0200
TZNAME:CEST
DTSTART:20250330T010000
END:DAYLIGHT
BEGIN:STANDARD
TZOFFSETFROM:+0200
TZOFFSETTO:+0100
TZNAME:CET
DTSTART:20251026T010000
END:STANDARD
BEGIN:DAYLIGHT
TZOFFSETFROM:+0100
TZOFFSETTO:+0200
TZNAME:CEST
DTSTART:20260329T010000
END:DAYLIGHT
BEGIN:STANDARD
TZOFFSETFROM:+0200
TZOFFSETTO:+0100
TZNAME:CET
DTSTART:20261025T010000
END:STANDARD
BEGIN:DAYLIGHT
TZOFFSETFROM:+0100
TZOFFSETTO:+0200
TZNAME:CEST
DTSTART:20270328T010000
END:DAYLIGHT
BEGIN:STANDARD
TZOFFSETFROM:+0200
TZOFFSETTO:+0100
TZNAME:CET
DTSTART:20271031T010000
END:STANDARD
END:VTIMEZONE
BEGIN:VEVENT
DTSTART;TZID=Europe/Stockholm:20260331T090000
DTEND;TZID=Europe/Stockholm:20260331T210000
DTSTAMP:20260419T172443
CREATED:20260206T134703Z
LAST-MODIFIED:20260206T140354Z
UID:10000110-1774947600-1774990800@bastad.com
SUMMARY:Vårens konstresa till Louisiana
DESCRIPTION:Följ med på BBK:s traditionella vårresa till Louisiana och upplev två spännande utställningar: Jean-Michel Basquiat – HEADSTRONG och Sophie Calle – The BLIND. Vi åker från Biblioteket\, Båstad (ICA´s parkering) kl. 09.00 och är tillbaka på kvällen. I priset ingår bussresa\, inträde och guidad tur. Lunch kan köpas på plats. \nPris: 650 kr för medlem (med betald årsavgift 2026)\, 750 kr för icke medlem. Louisiana-medlemmar får 200 kr rabatt. \nAnmälan och betalning senast 19 mars: Åsa Anderberg\, 076-136 74 64\, asabengt@telia.com. Betalning till BG 464-9398.
URL:https://bastad.com/event/varens-konstresa-till-louisiana/
LOCATION:Louisiana Museum of Modern Art\, GI. Strandvej 13\, 3050 Humlebæk\, Denmark
CATEGORIES:Konst och Kultur
ATTACH;FMTTYPE=image/jpeg:https://bastad.com/wp-content/uploads/2026/02/scala_AR00507-huge_jpg-960x640-1.jpg
END:VEVENT
END:VCALENDAR