BEGIN:VCALENDAR
VERSION:2.0
PRODID:-//Visit Båstad - ECPv6.15.14//NONSGML v1.0//EN
CALSCALE:GREGORIAN
METHOD:PUBLISH
X-ORIGINAL-URL:https://bastad.com
X-WR-CALDESC:Händelser för Visit Båstad
REFRESH-INTERVAL;VALUE=DURATION:PT1H
X-Robots-Tag:noindex
X-PUBLISHED-TTL:PT1H
BEGIN:VTIMEZONE
TZID:Europe/Stockholm
BEGIN:DAYLIGHT
TZOFFSETFROM:+0100
TZOFFSETTO:+0200
TZNAME:CEST
DTSTART:20250330T010000
END:DAYLIGHT
BEGIN:STANDARD
TZOFFSETFROM:+0200
TZOFFSETTO:+0100
TZNAME:CET
DTSTART:20251026T010000
END:STANDARD
BEGIN:DAYLIGHT
TZOFFSETFROM:+0100
TZOFFSETTO:+0200
TZNAME:CEST
DTSTART:20260329T010000
END:DAYLIGHT
BEGIN:STANDARD
TZOFFSETFROM:+0200
TZOFFSETTO:+0100
TZNAME:CET
DTSTART:20261025T010000
END:STANDARD
BEGIN:DAYLIGHT
TZOFFSETFROM:+0100
TZOFFSETTO:+0200
TZNAME:CEST
DTSTART:20270328T010000
END:DAYLIGHT
BEGIN:STANDARD
TZOFFSETFROM:+0200
TZOFFSETTO:+0100
TZNAME:CET
DTSTART:20271031T010000
END:STANDARD
END:VTIMEZONE
BEGIN:VEVENT
DTSTART;VALUE=DATE:20260612
DTEND;VALUE=DATE:20260615
DTSTAMP:20260423T220620
CREATED:20251215T080321Z
LAST-MODIFIED:20251215T082143Z
UID:10000052-1781229600-1781402399@bastad.com
SUMMARY:Summer On
DESCRIPTION:Upplev Sveriges snyggaste och skönaste musikfestival: Summer On\, den 12–13 juni 2026.\nFestivalen hålls på stranden utanför Hotel Skansen och bjuder på en spännande blandning av musikstilar\, artister och sommarkänsla. \n 
URL:https://bastad.com/event/summer-on/
LOCATION:Båstad\, Sweden
CATEGORIES:Musik och Konserter
ATTACH;FMTTYPE=image/jpeg:https://bastad.com/wp-content/uploads/2025/12/summeron22.jpg
ORGANIZER;CN="Summer On":MAILTO:info@summeron.se
END:VEVENT
BEGIN:VEVENT
DTSTART;TZID=Europe/Stockholm:20260613T080000
DTEND;TZID=Europe/Stockholm:20260613T200000
DTSTAMP:20260423T220620
CREATED:20260413T064737Z
LAST-MODIFIED:20260413T064737Z
UID:10000171-1781337600-1781380800@bastad.com
SUMMARY:Upplev skånska vingårdar
DESCRIPTION:Upptäck Terra Skåne – en ny vinvärld i Sverige \nFölj med på en heldagsupplevelse i hjärtat av Bjärehalvön och Kullabygden\, där hav möter vinrankor och Skåne visar sig från sin allra bästa sida. 13 juni och 10 juli. \nVi besöker: \nKullabergs Vingård \nThora Vingård \nLottenlund Estate \nHär får vi personliga guidade turer och vinprovning av gårdens vin och destillat. Vi intar även en ljuvlig vingårdslunch på Restaurang Flora med utsikt över böljande vingårdar och det skånska landskapet som kuliss. Vi åker med en buss med upphämtning i både Malmö och Helsingborg. Förvänta dig en härlig\, rolig och lärorik heldag tillsammans med oss! \nMer information om dagsresan och alla våra besök hittar du på Grapewild.se
URL:https://bastad.com/event/upplev-skanska-vingardar/
LOCATION:Båstad\, Sweden
CATEGORIES:Mat och Dryck
ATTACH;FMTTYPE=image/jpeg:https://bastad.com/wp-content/uploads/2026/04/vingard.jpeg
END:VEVENT
BEGIN:VEVENT
DTSTART;TZID=Europe/Stockholm:20260704T090000
DTEND;TZID=Europe/Stockholm:20260704T150000
DTSTAMP:20260423T220620
CREATED:20260204T114748Z
LAST-MODIFIED:20260204T114748Z
UID:10000105-1783155600-1783177200@bastad.com
SUMMARY:Båstad Marathon
DESCRIPTION:Båstad Marathon avgörs när solen står som högst på året\, med start och mål vid strandpromenaden i Båstad. Loppet bjuder på en naturskön och utmanande bana genom Båstads gator\, över Hallandsåsen\, via Torekov och vidare mot Hovs Hallar och Kattvik innan målgång i Båstad. Halvmaraton startar utanför Torekov och går i mål i Båstad.\nMaraton startar kl. 09.00 och halvmaraton kl. 11.00. Mindre justeringar av banan kan förekomma fram till veckan före loppdagen.
URL:https://bastad.com/event/bastad-marathon/
LOCATION:Båstad\, Sweden
CATEGORIES:Hälsa och Wellness,Naturupplevelser och Utflykter,Sport och Friluftsliv
ATTACH;FMTTYPE=image/jpeg:https://bastad.com/wp-content/uploads/2026/02/Bild7.jpg
END:VEVENT
BEGIN:VEVENT
DTSTART;VALUE=DATE:20260705
DTEND;VALUE=DATE:20260711
DTSTAMP:20260423T220620
CREATED:20260409T093845Z
LAST-MODIFIED:20260409T093845Z
UID:10000166-1783209600-1783727999@bastad.com
SUMMARY:Kidsweek på Båstad Camping
DESCRIPTION:🎉 Kidsweek på Båstad Camping – Sommarens roligaste vecka för barn! 🌞 \nGör er redo för en vecka fylld av skratt\, lek och massor av roliga aktiviteter! Under Kidsweek på Båstad Camping förvandlas campingen till ett riktigt paradis för barnen. Här väntar allt från spännande tävlingar och kreativa pysselstunder till lek\, sport och nya kompisar. \nDet blir dagar fyllda med energi\, äventyr och minnen som barnen kommer prata om långt efter att sommaren är slut. Perfekt för hela familjen – medan barnen har fullt upp med roliga aktiviteter kan ni njuta av allt det härliga som Båstad och campingen har att erbjuda. \n📅 Det fullständiga schemat släpps inom kort – håll utkik så att ni inte missar något! \nVi längtar efter att skapa en oförglömlig vecka tillsammans med er! 🌈
URL:https://bastad.com/event/kidsweek-pa-bastad-camping/
LOCATION:Båstad\, Sweden
CATEGORIES:Familj och Barn
ATTACH;FMTTYPE=image/jpeg:https://bastad.com/wp-content/uploads/2026/04/IMG_5335-copy-scaled.jpg
END:VEVENT
BEGIN:VEVENT
DTSTART;VALUE=DATE:20260706
DTEND;VALUE=DATE:20260713
DTSTAMP:20260423T220620
CREATED:20251022T040103Z
LAST-MODIFIED:20251022T053608Z
UID:10000002-1783303200-1783821599@bastad.com
SUMMARY:Nordea Open WTA
DESCRIPTION:Upplev tennis i världsklass i hjärtat av Båstad under Nordea Open WTA – Sveriges främsta damturnering i tennis. Varje sommar samlas internationella toppspelare på de klassiska grusbanorna vid havet för att bjuda publiken på intensiva matcher och en unik stämning fylld av energi\, elegans och passion. Utanför banorna väntar härliga sommarkvällar\, livemusik\, god mat och den speciella atmosfär som gör Båstad till Nordens tenniscentrum.
URL:https://bastad.com/event/nordea-open-wta/
LOCATION:Båstad\, Sweden
CATEGORIES:Tennis
ATTACH;FMTTYPE=image/webp:https://bastad.com/wp-content/uploads/2023/10/Nordea-open-tennis-Bastad-Biljetter-e1761118556192.webp
ORGANIZER;CN="Nordea Open":MAILTO:info@nordeaopen.se
END:VEVENT
BEGIN:VEVENT
DTSTART;TZID=Europe/Stockholm:20260708T193000
DTEND;TZID=Europe/Stockholm:20260708T210000
DTSTAMP:20260423T220620
CREATED:20260128T154556Z
LAST-MODIFIED:20260205T100846Z
UID:10000096-1783539000-1783544400@bastad.com
SUMMARY:Titiyo på Norrviken Sessions
DESCRIPTION:Titiyo är tillbaka och kommer till Båstad! Som en av svensk soulpops främsta pionjärer fortsätter hon att tänja musikaliska gränser. I över 30 år har hon rört sig fritt mellan RnB\, soulpop\, electronica och krautrock. Efter albumet ”Hemland” och en hyllad konserthusturné är hon nu redo för sommaren – bland annat på Norrvikens trädgårdar den 8 juli.
URL:https://bastad.com/event/titiyo-pa-norrviken-sessions/
LOCATION:Norrvikens Trädgårdar\, Kattviksvägen 233\, Båstad\, Skåne\, 26933\, Sweden
CATEGORIES:Musik och Konserter
ATTACH;FMTTYPE=image/jpeg:https://bastad.com/wp-content/uploads/2026/01/Norrviken26-Artistbild-1920x1080-Titiyo.jpg
ORGANIZER;CN="Krall":MAILTO:info@krall.se
END:VEVENT
BEGIN:VEVENT
DTSTART;TZID=Europe/Stockholm:20260711T190000
DTEND;TZID=Europe/Stockholm:20260711T220000
DTSTAMP:20260423T220620
CREATED:20260409T094051Z
LAST-MODIFIED:20260409T094051Z
UID:10000165-1783796400-1783807200@bastad.com
SUMMARY:100 % Uggla på Båstad Camping
DESCRIPTION:Den 11 juli är det dags för en riktig nostalgifest på Båstad Camping när 100 % Uggla intar scenen! \nDet blir en helkväll fylld av odödliga hits av Magnus Uggla – från rockiga klassiker till allsångsvänliga favoriter som får hela publiken att sjunga med. Räkna med hög energi\, skön stämning och en sommarkväll som sent ska glömmas. \nSamla vännerna\, ladda rösten och gör dig redo för 100 % Uggla – 100 % fest!
URL:https://bastad.com/event/100-uggla-pa-bastad-camping/
LOCATION:Båstad\, Sweden
CATEGORIES:Musik och Konserter
ATTACH;FMTTYPE=image/jpeg:https://bastad.com/wp-content/uploads/2026/04/100-Uggla-pdf-scaled.jpg
END:VEVENT
BEGIN:VEVENT
DTSTART;VALUE=DATE:20260713
DTEND;VALUE=DATE:20260721
DTSTAMP:20260423T220620
CREATED:20251022T040458Z
LAST-MODIFIED:20251022T053400Z
UID:10000003-1783908000-1784512799@bastad.com
SUMMARY:Nordea Open ATP
DESCRIPTION:Upplev tennis i världsklass när Nordea Open ATP tar plats i Båstad – en av sommarens stora sporthändelser. Världens främsta herrspelare möts på de legendariska grusbanorna vid havet för att kämpa om titeln i en av Sveriges mest prestigefyllda turneringar. Här kombineras toppidrott med sommaridyll\, strandliv och festlig atmosfär – en upplevelse utöver det vanliga i tennisens huvudstad Båstad.
URL:https://bastad.com/event/nordea-open-atp/
LOCATION:Båstad\, Sweden
CATEGORIES:Tennis
ATTACH;FMTTYPE=image/jpeg:https://bastad.com/wp-content/uploads/2023/09/Naringsliv-Bastad-bli-medlem-i-Bjarehalvons-storsta-natverk-1-scaled-e1761118421342.jpg
ORGANIZER;CN="Nordea Open":MAILTO:info@nordeaopen.se
END:VEVENT
BEGIN:VEVENT
DTSTART;VALUE=DATE:20260725
DTEND;VALUE=DATE:20260726
DTSTAMP:20260423T220620
CREATED:20260319T145050Z
LAST-MODIFIED:20260319T145050Z
UID:10000141-1784937600-1785023999@bastad.com
SUMMARY:Bjäre Trail 2026
DESCRIPTION:Bjäre Trail – ett terränglopp utöver det vanliga \nLoppet för dig som vill ha en extra utmaning! \nVågar du anmäla dig till ett trail-lopp som erbjuder det mesta och lite till … Banan är VÄLDIGT kuperad! Ni springer upp och ner längs Hallandsåsens norrsida\, ni kommer springa genom Sinarpsdalen\, närmare Astrid Lindgrens ”Körsbärsdalen” kommer man inte i verkligheten (enda skillnaden är att körsbärsträden inte blommar i juli). Ni springer genom täta bokskogar med forsande vattenfall\, beteshagar med betande djur\, nedlagd skidbacke\, nedlagd järnväg. \nMånga har sagt -”aldrig igen” när de har gått i mål\, men alltid återvänt året efter! Det utlovas förutom massor av mjölksyra i benen en otaliga tillfällen till leenden och sagolik utsikt som slår det mesta. Välkomna med din anmälan! \nDistanserna är 12km\, 17km\, 34km\, 51km & 5km barn 10-15år \nStart och mål är vid Båstad Företagsby\, Ängelholmsvägen 269 42 Båstad
URL:https://bastad.com/event/bjare-trail-2026/
LOCATION:Båstad\, Sweden
CATEGORIES:Sport och Friluftsliv
ATTACH;FMTTYPE=image/jpeg:https://bastad.com/wp-content/uploads/2026/03/bjare-trail.jpg
END:VEVENT
BEGIN:VEVENT
DTSTART;VALUE=DATE:20260803
DTEND;VALUE=DATE:20260810
DTSTAMP:20260423T220620
CREATED:20251121T093033Z
LAST-MODIFIED:20251121T093033Z
UID:10000040-1785722400-1786240799@bastad.com
SUMMARY:Birgit Nilsson Festival
DESCRIPTION:Under festivalen arrangeras ett 20-tal programpunkter med en open air-konsert som grand final på Tennisstadion i Båstad. 2026 års open air-konsert blir ingen mindre än Richard Wagners dramatiska och romantiska opera Den flygande holländaren. Förutom Den Flygande holländaren ingår den traditionsenliga stipendiekonserten i Västra Karups kyrka\, mästar klasser inför publik på kulturhuset Ravinen vid Norrvikens trädgårdar och ett innehållsrikt program på Birgit Nilsson Museum.
URL:https://bastad.com/event/birgit-nilsson-festival/
LOCATION:Båstad\, Sweden
CATEGORIES:Festivaler och Marknader,Musik och Konserter
ATTACH;FMTTYPE=image/jpeg:https://bastad.com/wp-content/uploads/2025/11/Flygbild-Open-air.jpg
END:VEVENT
BEGIN:VEVENT
DTSTART;TZID=Europe/Stockholm:20260808T190000
DTEND;TZID=Europe/Stockholm:20260808T220000
DTSTAMP:20260423T220620
CREATED:20260310T144201Z
LAST-MODIFIED:20260310T144201Z
UID:10000129-1786215600-1786226400@bastad.com
SUMMARY:Den flygande holländaren
DESCRIPTION:En unik open air-upplevelse med världssolister.\nEn av operavärldens mest mytomspunna berättelser klingar över Bjärehalvön när Richard Wagners Den flygande holländaren framförs som en storslagen open air-konsert på Tennisstadion i Båstad. Under bar himmel\, bara ett stenkast från havet och mitt i sommarmetropolens pulserande hjärta\, samlas världsartister\, 100 körsångare och Helsingborgs Symfoniorkester för att tillsammans skapa en musikalisk upplevelse som går rakt in i själen. \nDen svenska världssopranen Elisabet Strid gör rollen som Senta\, den unga kvinnan vars starka längtan och hängivenhet står i centrum av Wagners intensiva saga om kärlek och öde. Med både intensitet och innerlighet gestaltar hon en av operalitteraturens mest fängslande kvinnliga roller. Tillsammans med en internationell solistensemble bäddar hon för en unik konsertupplevelse. \nRollista:\nHolländaren: Christopher Maltman\nSenta: Elisabet Strid\nDaland: Günther Groissböck\nErik: Stanislas de Barbeyrac\nMary: Katarina Dalayman\nDalands styrman: Tobias Westman\nHelsingborgs Symfoniorkester\nKörsångare från Skåne\nDirigent:Henrik Nánási\nScenisk gestaltning: Staffan Valdemar Holm
URL:https://bastad.com/event/den-flygande-hollandaren/
LOCATION:Båstad\, Sweden
CATEGORIES:Musik och Konserter
ATTACH;FMTTYPE=image/png:https://bastad.com/wp-content/uploads/2026/03/BNF_Julius_1366x650px_Den_Flygande_Hollandaren.png
END:VEVENT
BEGIN:VEVENT
DTSTART;VALUE=DATE:20260822
DTEND;VALUE=DATE:20260823
DTSTAMP:20260423T220620
CREATED:20260319T145922Z
LAST-MODIFIED:20260319T145922Z
UID:10000142-1787356800-1787443199@bastad.com
SUMMARY:Torekov Swimrun
DESCRIPTION:Med start från Båstad och mål i Torekov\, följer du Bjärehalvöns spektakulära och mytomspunna kust. Över klippor\, längs stigar och strandängar. Ett lopp där varje sträcka bjuder på nya vyer\, doften av hav och känslan av frihet. \nFrån Båstad till Torekov – 18\,2 km på land och 4\,5 km i hav. \nNyhet för 2026! \nSprint från Hovs Hallar till Torekov – 8\,1 km löpning och 1\,8 km simning\, solo eller i ett team. \nVälkommen till Sveriges vackraste swimrunbana! \n 
URL:https://bastad.com/event/torekov-swimrun/
LOCATION:Båstad\, Sweden
CATEGORIES:Sport och Friluftsliv
ATTACH;FMTTYPE=image/jpeg:https://bastad.com/wp-content/uploads/2026/03/Swimrun.jpg
END:VEVENT
BEGIN:VEVENT
DTSTART;VALUE=DATE:20260823
DTEND;VALUE=DATE:20260824
DTSTAMP:20260423T220620
CREATED:20260319T150350Z
LAST-MODIFIED:20260319T150350Z
UID:10000143-1787443200-1787529599@bastad.com
SUMMARY:Torekov Open Water 2026
DESCRIPTION:Torekov Open Water – Sveriges mest oförutsägbara öppet vatten äventyr! En unik öppet vatten tävling där du aldrig vet vad som väntar förrän startskottet går. \nDet kan vara 1\,5 meter höga vågor och 15 m/sekunds vindar.\nEller spegelblankt hav och kristallklart vatten. \nDu tar båten från Torekov ut till Hallands Väderö\, där starten går från sandstranden.\nSedan börjar äventyret – en simning över öppet hav där du själv navigerar hela vägen tillbaka till Torekov och den ikoniska Morgonbryggan.\nSimma raka vägen\, eller dras med strömmen? \nSöndagen den 23 augusti 2026 \nVilka förutsättningar havet bjuder på – det vet ingen.\nMen en sak är säker: det blir ett oförglömligt äventyr. \nAnmäl dig idag och upplev kraften\, friheten och magin i Torekov!
URL:https://bastad.com/event/torekov-open-water-2026/
LOCATION:Båstad\, Sweden
CATEGORIES:Sport och Friluftsliv
ATTACH;FMTTYPE=image/avif:https://bastad.com/wp-content/uploads/2026/03/open-water.avif
END:VEVENT
BEGIN:VEVENT
DTSTART;TZID=Europe/Stockholm:20261030T110000
DTEND;TZID=Europe/Stockholm:20261101T030000
DTSTAMP:20260423T220620
CREATED:20251111T111803Z
LAST-MODIFIED:20251111T112104Z
UID:10000007-1793358000-1793502000@bastad.com
SUMMARY:Kulllamannen by UTMB 2026
DESCRIPTION:Under Kullamannenhelgen förvandlas Båstad och Bjärehalvön till en plats fylld av äventyr\, myt och gemenskap. Här möts tusentals löpare från hela världen för att anta utmaningen i Kullamannen by UTMB® – ett av Skandinaviens mest ikoniska traillopp. Från kustens klippor till djupa bokskogar löper banorna genom en dramatisk natur som bjuder på både kraftprov och magi. \nHelgen rymmer mer än bara tävlingar – här finns upplevelser för hela familjen. Den legendariska riddaren gör entré\, barnen springer sina egna lopp och området fylls av aktiviteter\, musik och rörelse. Kullamannenhelgen är en hyllning till mod\, natur och gemenskap – där varje steg blir en del av legenden. \nKom och besök expot och shoppen i Gallerian i Båstad.\nHäng med på fredagens socialrun och hej på löparna som går i mål på Centercourten i Båstad.
URL:https://bastad.com/event/kulllamannen-by-utmb-2026/
LOCATION:Båstad\, Sweden
CATEGORIES:Sport och Friluftsliv
ATTACH;FMTTYPE=image/jpeg:https://bastad.com/wp-content/uploads/2025/11/Kullamannen-2024-CToni-Grases_0836-Mejorado-NR.jpg
ORGANIZER;CN="Kullamannen":MAILTO:kitt.granvide@team.utmb.world
END:VEVENT
END:VCALENDAR