BEGIN:VCALENDAR
VERSION:2.0
PRODID:-//Visit Båstad - ECPv6.15.14//NONSGML v1.0//EN
CALSCALE:GREGORIAN
METHOD:PUBLISH
X-WR-CALNAME:Visit Båstad
X-ORIGINAL-URL:https://bastad.com
X-WR-CALDESC:Händelser för Visit Båstad
REFRESH-INTERVAL;VALUE=DURATION:PT1H
X-Robots-Tag:noindex
X-PUBLISHED-TTL:PT1H
BEGIN:VTIMEZONE
TZID:Europe/Stockholm
BEGIN:DAYLIGHT
TZOFFSETFROM:+0100
TZOFFSETTO:+0200
TZNAME:CEST
DTSTART:20250330T010000
END:DAYLIGHT
BEGIN:STANDARD
TZOFFSETFROM:+0200
TZOFFSETTO:+0100
TZNAME:CET
DTSTART:20251026T010000
END:STANDARD
BEGIN:DAYLIGHT
TZOFFSETFROM:+0100
TZOFFSETTO:+0200
TZNAME:CEST
DTSTART:20260329T010000
END:DAYLIGHT
BEGIN:STANDARD
TZOFFSETFROM:+0200
TZOFFSETTO:+0100
TZNAME:CET
DTSTART:20261025T010000
END:STANDARD
BEGIN:DAYLIGHT
TZOFFSETFROM:+0100
TZOFFSETTO:+0200
TZNAME:CEST
DTSTART:20270328T010000
END:DAYLIGHT
BEGIN:STANDARD
TZOFFSETFROM:+0200
TZOFFSETTO:+0100
TZNAME:CET
DTSTART:20271031T010000
END:STANDARD
END:VTIMEZONE
BEGIN:VEVENT
DTSTART;TZID=Europe/Stockholm:20260418T120000
DTEND;TZID=Europe/Stockholm:20260418T160000
DTSTAMP:20260419T152919
CREATED:20260409T093454Z
LAST-MODIFIED:20260409T093454Z
UID:10000168-1776513600-1776528000@bastad.com
SUMMARY:Vernissage LUST - Sandra Stojiljkovic
DESCRIPTION:VERNISSAGE: L U S T – om att orka bli levande\nEn utställning av Sandra Stojiljkovic \nVälkommen på vernissage för utställningen L U S T\, där skådespelaren och konstnären Sandra Stojiljkovic utforskar lusten som vår nödvändiga drivkraft. Genom måleriet gestaltas teman som mod\, hopp och stillhet – verk som föddes ur ett löfte till en nära vän och som idag blivit en passionerad livsnödvändighet. \nOm konstnären\nSandra Stojiljkovic är ett välkänt ansikte både på scen och duk. Hon tillhör Malmö Stadsteaters fasta ensemble och är för den breda publiken främst känd för sin hyllade roll som Dani i TV-serien Tunna blå linjen. \nEfter en livslång dröm om att skapa\, tog måleriet fart på allvar 2017. Idag är konsten en plats för närvaro och reflektion\, där Sandra med stor ödmjukhet inför hantverket utforskar hur vi hittar kraften att bli levande igen. \nÖppettider: lör-sön 12-16\nVernissage 18 april kl 12-16\nFinnissage 3 maj 12-16
URL:https://bastad.com/event/vernissage-lust-sandra-stojiljkovic/
LOCATION:Båstad\, Sweden
CATEGORIES:Konst och Kultur
ATTACH;FMTTYPE=image/jpeg:https://bastad.com/wp-content/uploads/2026/04/image1-1-1.jpeg
ORGANIZER;CN="Bj%C3%A4re Konsthall":MAILTO:johan@bjarekonsthall.se
END:VEVENT
BEGIN:VEVENT
DTSTART;TZID=Europe/Stockholm:20260406T013000
DTEND;TZID=Europe/Stockholm:20260406T151500
DTSTAMP:20260419T152919
CREATED:20260310T160036Z
LAST-MODIFIED:20260310T160212Z
UID:10000130-1775439000-1775488500@bastad.com
SUMMARY:Nobelvandring i Båstad
DESCRIPTION:Båstad fick sin egen Nobelhistoria när Ludvig Nobel\, brorson till den store Alfred\, fick ingivelsen att göra Båstad till en turistort med internationell dragningskraft. \nFölj med guiden Ingrid Persson Skog annandag påsk på en guidad tur i Ludvig Nobels fotspår. Utöver turism- och idrottshistoria innehåller den dels fängslande avsnitt om Nobels kulturengagemang och destinationsutveckling\, dels den för många okända berättelsen om Alfred och hans bröder i Ryssland. Ett besök på Skånegården\, Nobels fantastiska hotellskapelse\, kan eventuellt ingå i turen.  OBS! Minimiantal för att turen ska genomföras: 5 personer. Endast förköp. \nSamling: kl. 13.25 utanför det lilla tegelhuset vid torget i Båstad bredvid kyrkan; Köpmansgatan 1\, Båstad \nBokning: senast den 6 april kl. 11.00 på tel 0738 – 50 33 43 el. ingrid@sprakguiden.com \nBiljetter: endast förköp; vuxen 150 kr\, 12 – 19 år 90 kr \nBetalning:  Swish nr 123 338 2165. Skriv 6/4 i meddelandefältet
URL:https://bastad.com/event/nobelvandring-i-bastad/
LOCATION:Båstad\, Sweden
CATEGORIES:Konst och Kultur
ATTACH;FMTTYPE=image/avif:https://bastad.com/wp-content/uploads/2026/03/Nobelvandring-i-Bastad.avif
ORGANIZER;CN="Spr%C3%A5kguiden":MAILTO:ingrid@sprakguiden.com
END:VEVENT
BEGIN:VEVENT
DTSTART;TZID=Europe/Stockholm:20260404T100000
DTEND;TZID=Europe/Stockholm:20260412T170000
DTSTAMP:20260419T152919
CREATED:20260323T145553Z
LAST-MODIFIED:20260323T145553Z
UID:10000144-1775296800-1776013200@bastad.com
SUMMARY:Vernissage LIVETS GODA – Lennart Nilsson & Thomas Müller
DESCRIPTION:Välkommen till en inspirerande start på påskhelgen! På långfredag den 3 april bjuder Bjäre Konsthall in till vernissage för utställningen Livets goda. \nHär möts Lennart Nilssons och Thomas Müllers unika världar i en färgstark dialog som du inte vill missa. \nDatum: Långfredag 3 april\nTid: Kl. 10.00 – 16.00\nPlats: Bjäre Konsthall \nÖppettider för utställningen\n4-6 april kl 10-18\n7-12 april kl 12-17
URL:https://bastad.com/event/vernissage-livets-goda-lennart-nilsson-thomas-muller/
LOCATION:Båstad\, Sweden
CATEGORIES:Konst och Kultur
ATTACH;FMTTYPE=image/png:https://bastad.com/wp-content/uploads/2026/03/livets-goda-1.png
ORGANIZER;CN="Bj%C3%A4re Konsthall":MAILTO:johan@bjarekonsthall.se
END:VEVENT
BEGIN:VEVENT
DTSTART;VALUE=DATE:20260403
DTEND;VALUE=DATE:20260413
DTSTAMP:20260419T152919
CREATED:20260317T145419Z
LAST-MODIFIED:20260317T145419Z
UID:10000138-1775174400-1776038399@bastad.com
SUMMARY:Påskutställning LIVETS GODA – Lennart Nilsson & Thomas Müller
DESCRIPTION:Fira påsken på Bjäre Konsthall med utställningen Livets goda – här sammanförs Lennart Nilssons och Thomas Müllers unika världar i en färgstark dialog. Genom två skilda uttryck utforskar de livets små\, magiska ögonblick och bjuder in till en upplevelse som både berör och roar. Välkommen till en utställning där varje verk bär på en historia. \nVernissage 3 april kl 10-16 \nÖppettider för utställningen\n4-6 april kl 10-18\n7-12 april kl 12-17
URL:https://bastad.com/event/paskutstallning-livets-goda-lennart-nilsson-thomas-muller/
LOCATION:Båstad\, Sweden
CATEGORIES:Konst och Kultur
ATTACH;FMTTYPE=image/png:https://bastad.com/wp-content/uploads/2026/03/livets-goda.png
ORGANIZER;CN="Bj%C3%A4re Konsthall":MAILTO:johan@bjarekonsthall.se
END:VEVENT
BEGIN:VEVENT
DTSTART;TZID=Europe/Stockholm:20260402T120000
DTEND;TZID=Europe/Stockholm:20260406T060000
DTSTAMP:20260419T152919
CREATED:20260324T141624Z
LAST-MODIFIED:20260324T141624Z
UID:10000145-1775131200-1775455200@bastad.com
SUMMARY:Alla ateljéers vårsalong 2026.
DESCRIPTION:Allas ateljéer bjuder in till vårsalong! Det blir en härlig blandning av färg och form då 9 stycken lokala konstnärer visar upp sin konst i denna samlingsutställning. \nUtställarna är: Gunilla Hovenäs\, Sara Ångström\, Jonna Karin Sahlström\, Camilla Möller\, Mikaela Nordlund\, Anncatrin Berglund\, Monika Filipsson\, Jeanette Ringwall och Susann Taubert. På plats kommer även Allas Ateljéer finnas och bjuda på små workshops under helgen. Mer information och uppdateringar kan Ni hitta på instagram via Allasateljeer eller facebook Allas Ateljéer Båstad. \nVernissage skärtorsdag 2 April 12:00-18:00\nÖppet hela påskhelgen 12:00-18:00 \nVälkommen!
URL:https://bastad.com/event/alla-ateljeers-varsalong-2026/
LOCATION:Båstad\, Sweden
CATEGORIES:Familj och Barn,Konst och Kultur
ATTACH;FMTTYPE=image/jpeg:https://bastad.com/wp-content/uploads/2026/03/Allas-ateljeervarsalong2026-scaled.jpg
ORGANIZER;CN="Allas atelj%C3%A9er i B%C3%A5stad":MAILTO:allasateljeer@gmail.com
END:VEVENT
BEGIN:VEVENT
DTSTART;TZID=Europe/Stockholm:20260402T100000
DTEND;TZID=Europe/Stockholm:20260405T150000
DTSTAMP:20260419T152919
CREATED:20260304T145757Z
LAST-MODIFIED:20260304T145757Z
UID:10000127-1775124000-1775401200@bastad.com
SUMMARY:Konstutställning hos Butikerna på gården
DESCRIPTION:Kom och träffa fyra olika konstnärer i vår Saluhall under påskhelgen. \nFoodtruck på plats utanför butikerna\, så ni kan äta lunchen här. \nTant Grön har ost & smakligheter till ditt påskfirande. Mer än 100-olika sorters ost finns det här. \nElin & Arvid har vårens och sommarens mode till henne & honom. Kläder med stil o kvalité. \nSkärtorsdag 10-18\nLångfredag 10-15\nPåskafton 10-15\nPåskdagen 10-15
URL:https://bastad.com/event/konstutstallning-hos-butikerna-pa-garden/
LOCATION:Båstad\, Sweden
CATEGORIES:Konst och Kultur
ATTACH;FMTTYPE=image/jpeg:https://bastad.com/wp-content/uploads/2026/03/957cd29d-8073-44fd-b133-0021bd1ef540.jpg
ORGANIZER;CN="Butikerna p%C3%A5 g%C3%A5rden":MAILTO:butikernapagarden@bpg.se
END:VEVENT
BEGIN:VEVENT
DTSTART;TZID=Europe/Stockholm:20260331T170000
DTEND;TZID=Europe/Stockholm:20260402T190000
DTSTAMP:20260419T152919
CREATED:20260330T083402Z
LAST-MODIFIED:20260330T083441Z
UID:10000155-1774976400-1775156400@bastad.com
SUMMARY:Skytte med luftpistol
DESCRIPTION:Gratis prova på luftpistolskytte – för dig mellan 10 och 15 år. \n\n\n\n\nPå tisdag den 31 mars och torsdag den 2 april\, under påsklovsveckan\, bjuder vi in ungdomar mellan 10 och 15 år att prova på luftpistolsskytte. \n\nTisdag 31/3\nTorsdag 2/4\n\nI mån av plats kan även vuxna anhöriga prova på. \nViktigt att ta med: \n\nUngdomarna ska ha med telefonnummer till målsman och hela sitt personnummer.\n\nInformation till föräldrar: \n\nAll information om ansvarig förening finns på deras webbplats: www.ramsjoskf.seLänk till annan webbplats.. Välj ”Börja skjuta luftpistol”.\n\nVälkommen!
URL:https://bastad.com/event/skytte-med-luftpistol/
LOCATION:Båstad\, Sweden
CATEGORIES:Familj och Barn
ATTACH;FMTTYPE=image/png:https://bastad.com/wp-content/uploads/2026/03/luftpistol.png
END:VEVENT
BEGIN:VEVENT
DTSTART;VALUE=DATE:20260328
DTEND;VALUE=DATE:20260331
DTSTAMP:20260419T152919
CREATED:20251215T071647Z
LAST-MODIFIED:20251215T074340Z
UID:10000050-1774659600-1774835999@bastad.com
SUMMARY:HOKA Torekov Båstad
DESCRIPTION:Du springer längs havet\, med den salta vinden i ansiktet och de vida vyerna i blickfånget. Känner den friska lukten av saltvatten och tång. Ler åt att korna som betar här och har en så vacker arbetsplats.\nLördagen 21K. \nLördag 21 km\nKlassiska Hoka Torekov-Båstad längs Bjärehalvöns norra kustlinje via dramatiska Hovs Hallar.\nObs. Loppet är fullbokat för 2026. \nSöndagen 28K.\nSöndagslyx\, vad är det för dig? För oss är det en långtur i vacker natur och något gott att äta och dricka. Det är Hoka Torekov-Båstad Söndag.
URL:https://bastad.com/event/hoka-torekov-bastad/
LOCATION:Båstad\, Sweden
CATEGORIES:Sport och Friluftsliv
ATTACH;FMTTYPE=image/jpeg:https://bastad.com/wp-content/uploads/2025/12/AN_TORKEKOVBASTAD_WEBBLOW_8.jpg
ORGANIZER;CN="Hoka Torekov-B%C3%A5stad":MAILTO:info@torekovbastad.se
END:VEVENT
END:VCALENDAR