BEGIN:VCALENDAR
VERSION:2.0
PRODID:-//Visit Båstad - ECPv6.15.14//NONSGML v1.0//EN
CALSCALE:GREGORIAN
METHOD:PUBLISH
X-WR-CALNAME:Visit Båstad
X-ORIGINAL-URL:https://bastad.com
X-WR-CALDESC:Händelser för Visit Båstad
REFRESH-INTERVAL;VALUE=DURATION:PT1H
X-Robots-Tag:noindex
X-PUBLISHED-TTL:PT1H
BEGIN:VTIMEZONE
TZID:Europe/Stockholm
BEGIN:DAYLIGHT
TZOFFSETFROM:+0100
TZOFFSETTO:+0200
TZNAME:CEST
DTSTART:20250330T010000
END:DAYLIGHT
BEGIN:STANDARD
TZOFFSETFROM:+0200
TZOFFSETTO:+0100
TZNAME:CET
DTSTART:20251026T010000
END:STANDARD
BEGIN:DAYLIGHT
TZOFFSETFROM:+0100
TZOFFSETTO:+0200
TZNAME:CEST
DTSTART:20260329T010000
END:DAYLIGHT
BEGIN:STANDARD
TZOFFSETFROM:+0200
TZOFFSETTO:+0100
TZNAME:CET
DTSTART:20261025T010000
END:STANDARD
BEGIN:DAYLIGHT
TZOFFSETFROM:+0100
TZOFFSETTO:+0200
TZNAME:CEST
DTSTART:20270328T010000
END:DAYLIGHT
BEGIN:STANDARD
TZOFFSETFROM:+0200
TZOFFSETTO:+0100
TZNAME:CET
DTSTART:20271031T010000
END:STANDARD
END:VTIMEZONE
BEGIN:VEVENT
DTSTART;TZID=Europe/Stockholm:20260606T100000
DTEND;TZID=Europe/Stockholm:20260606T160000
DTSTAMP:20260420T140818
CREATED:20260409T064026Z
LAST-MODIFIED:20260409T064026Z
UID:10000162-1780740000-1780761600@bastad.com
SUMMARY:Motionsdagen 2026
DESCRIPTION:Motionsdagen 2026 på Örebäcksvallen – full av rörelseglädje\, happenings och trivsel!\nTa del av tipsrunda\, motionslopp för alla\, minicup\, lotteri\, straffläggning och mer därtill.\nKiosken håller öppet och det händer grejer i varje hörn.\nAnmälan öppnar 23 april. \nVäl mött på Örebäckvallen lördagen 6 juni kl 10\,00
URL:https://bastad.com/event/motionsdagen-2026/
LOCATION:Båstad\, Sweden
CATEGORIES:Familj och Barn,Hälsa och Wellness,Sport och Friluftsliv
ATTACH;FMTTYPE=image/jpeg:https://bastad.com/wp-content/uploads/2026/04/Motionsdagen.jpg
END:VEVENT
BEGIN:VEVENT
DTSTART;VALUE=DATE:20260612
DTEND;VALUE=DATE:20260615
DTSTAMP:20260420T140818
CREATED:20251215T080321Z
LAST-MODIFIED:20251215T082143Z
UID:10000052-1781229600-1781402399@bastad.com
SUMMARY:Summer On
DESCRIPTION:Upplev Sveriges snyggaste och skönaste musikfestival: Summer On\, den 12–13 juni 2026.\nFestivalen hålls på stranden utanför Hotel Skansen och bjuder på en spännande blandning av musikstilar\, artister och sommarkänsla. \n 
URL:https://bastad.com/event/summer-on/
LOCATION:Båstad\, Sweden
CATEGORIES:Musik och Konserter
ATTACH;FMTTYPE=image/jpeg:https://bastad.com/wp-content/uploads/2025/12/summeron22.jpg
ORGANIZER;CN="Summer On":MAILTO:info@summeron.se
END:VEVENT
BEGIN:VEVENT
DTSTART;TZID=Europe/Stockholm:20260613T080000
DTEND;TZID=Europe/Stockholm:20260613T200000
DTSTAMP:20260420T140818
CREATED:20260413T064737Z
LAST-MODIFIED:20260413T064737Z
UID:10000171-1781337600-1781380800@bastad.com
SUMMARY:Upplev skånska vingårdar
DESCRIPTION:Upptäck Terra Skåne – en ny vinvärld i Sverige \nFölj med på en heldagsupplevelse i hjärtat av Bjärehalvön och Kullabygden\, där hav möter vinrankor och Skåne visar sig från sin allra bästa sida. 13 juni och 10 juli. \nVi besöker: \nKullabergs Vingård \nThora Vingård \nLottenlund Estate \nHär får vi personliga guidade turer och vinprovning av gårdens vin och destillat. Vi intar även en ljuvlig vingårdslunch på Restaurang Flora med utsikt över böljande vingårdar och det skånska landskapet som kuliss. Vi åker med en buss med upphämtning i både Malmö och Helsingborg. Förvänta dig en härlig\, rolig och lärorik heldag tillsammans med oss! \nMer information om dagsresan och alla våra besök hittar du på Grapewild.se
URL:https://bastad.com/event/upplev-skanska-vingardar/
LOCATION:Båstad\, Sweden
CATEGORIES:Mat och Dryck
ATTACH;FMTTYPE=image/jpeg:https://bastad.com/wp-content/uploads/2026/04/vingard.jpeg
END:VEVENT
BEGIN:VEVENT
DTSTART;TZID=Europe/Stockholm:20260619T100000
DTEND;TZID=Europe/Stockholm:20260619T170000
DTSTAMP:20260420T140818
CREATED:20260220T110821Z
LAST-MODIFIED:20260220T110821Z
UID:10000125-1781863200-1781888400@bastad.com
SUMMARY:Midsommarafton på Norrviken
DESCRIPTION:Samla familj och vänner för ett traditionellt midsommarfirande i en av sommarens vackraste miljöer. Packa picknickkorgen\, dansa och lek kring midsommarstången och låt stämningen fyllas av musik och glädje – med sångerskan Debbie Nilsson som står för den musikaliska underhållningen under dagen. \nI Orangeriet restaurang serveras en midsommarinspirerad meny med smaker som hör sommaren till\, i en omgivning skapad för firande. \nButik Norrviken och Chocolaterian håller öppet kl. 10–17.
URL:https://bastad.com/event/midsommarafton-pa-norrviken/
LOCATION:Norrvikens Trädgårdar\, Kattviksvägen 233\, Båstad\, Skåne\, 26933\, Sweden
CATEGORIES:Familj och Barn
ATTACH;FMTTYPE=image/jpeg:https://bastad.com/wp-content/uploads/2026/02/midsommar-norrviken-anna-nyman-3.jpg
END:VEVENT
BEGIN:VEVENT
DTSTART;VALUE=DATE:20260626
DTEND;VALUE=DATE:20260630
DTSTAMP:20260420T140818
CREATED:20251215T084855Z
LAST-MODIFIED:20251215T085014Z
UID:10000051-1782439200-1782698399@bastad.com
SUMMARY:The Aurora – Skandinaviens mest prestigefyllda bil- & livsstilsevent
DESCRIPTION:Upplev The Aurora! Varje sommar förvandlas Norrvikens Trädgårdar i Båstad till en unik scen för några av världens mest exklusiva fordon i en hyllning till ikoniska bilar\, hypermoderna superbilar\, lyxiga yachter och världsledande livsstilsvarumärken som möts i en spektakulär miljö.  Välkommen till den ultimata trädgårdsfesten – fylld av motorer\, elegans och upplevelser. \nConcours & Showfield – Se några av världens mest eftertraktade bilar sida vid sida: från sällsynta klassiker till extremt exklusiva hypercars som sällan visas i Norden.The Yacht Show – Promenera i Båstad hamn bland magnifika yachter\, njut av champagne med utsikt över vattnet och upptäck maritim elegans på högsta nivå.Lifestyle Exhibitions – En inspirerande mix av mode\, teknik\, sport\, design och livsstilsprodukter där livet i sin bästa form står i fokus.The Aurora Talks – Lär av ledande profiler inom bil- och designvärlden i engagerande samtal om innovation\, estetik och framtidens mobilitet. \nMissa inte chansen att vara en del av detta internationella evenemang som lockar tiotusentals besökare varje år!
URL:https://bastad.com/event/the-aurora-skandinaviens-mest-prestigefyllda-bil-livsstilsevent/
LOCATION:Norrvikens Trädgårdar\, Kattviksvägen 233\, Båstad\, Skåne\, 26933\, Sweden
CATEGORIES:Festivaler och Marknader
ATTACH;FMTTYPE=image/jpeg:https://bastad.com/wp-content/uploads/2025/12/the-aurora-24.jpg
ORGANIZER;CN="The Aurora":MAILTO:info@theaurora.com
END:VEVENT
END:VCALENDAR