BEGIN:VCALENDAR
VERSION:2.0
PRODID:-//Visit Båstad - ECPv6.15.14//NONSGML v1.0//EN
CALSCALE:GREGORIAN
METHOD:PUBLISH
X-ORIGINAL-URL:https://bastad.com
X-WR-CALDESC:Händelser för Visit Båstad
REFRESH-INTERVAL;VALUE=DURATION:PT1H
X-Robots-Tag:noindex
X-PUBLISHED-TTL:PT1H
BEGIN:VTIMEZONE
TZID:Europe/Stockholm
BEGIN:DAYLIGHT
TZOFFSETFROM:+0100
TZOFFSETTO:+0200
TZNAME:CEST
DTSTART:20250330T010000
END:DAYLIGHT
BEGIN:STANDARD
TZOFFSETFROM:+0200
TZOFFSETTO:+0100
TZNAME:CET
DTSTART:20251026T010000
END:STANDARD
BEGIN:DAYLIGHT
TZOFFSETFROM:+0100
TZOFFSETTO:+0200
TZNAME:CEST
DTSTART:20260329T010000
END:DAYLIGHT
BEGIN:STANDARD
TZOFFSETFROM:+0200
TZOFFSETTO:+0100
TZNAME:CET
DTSTART:20261025T010000
END:STANDARD
BEGIN:DAYLIGHT
TZOFFSETFROM:+0100
TZOFFSETTO:+0200
TZNAME:CEST
DTSTART:20270328T010000
END:DAYLIGHT
BEGIN:STANDARD
TZOFFSETFROM:+0200
TZOFFSETTO:+0100
TZNAME:CET
DTSTART:20271031T010000
END:STANDARD
END:VTIMEZONE
BEGIN:VEVENT
DTSTART;VALUE=DATE:20260207
DTEND;VALUE=DATE:20260518
DTSTAMP:20260420T154335
CREATED:20260122T073405Z
LAST-MODIFIED:20260122T073405Z
UID:10000094-1770422400-1779062399@bastad.com
SUMMARY:ROTAD – Edstrandska stiftelsen 75 år
DESCRIPTION:Denna utställning zoomar in på en anmärkningsvärd historia – Edstrandska stiftelsen har sedan 1951 årligen delat ut ett av Sveriges största konststipendier och därigenom haft stor betydelse för det konstliv som växer fram i och omkring Sverige. Stiftad som en hyllning till syskonen Reinhold\, Gunhild och Thekla Edstrands hängivna intresse för samtidskonst\, har fonden påverkat generationer av unga konstnärers praktik genom att ge dem möjlighet att fokusera på sin konstnärliga utveckling. Denna jubileumsutställning markerar därför också 75 års konsthistoria och ger inblick i omfattningen av vad ett sådant intresse och engagemang kan betyda för vårt samhälle. \nMan kan då frestas att tänka att utställningen skulle återge en kronologisk historia om konstlivets utveckling lokalt i Sverige — men Edstrandska stiftelsens historia handlar om konstnärlig utveckling\, och är därför långt ifrån linjär\, utan sträcker sig mot bredare horisonter. De 20 konstnärer som valts för att utveckla denna unika historia är alla bevis på att skapandet av konst inte följer en rak\, förutsägbar väg. Snarare utmanar utställningen den linjära tidsuppfattningen som är utbredd i det moderna samhället\, och pekar mot sammanhang som sträcker sig över tid och rum. \nFöreställ dig ett kraftigt rotsystem från vilket växter sprider sig\, skjuter horisontellt fram under jordytan\, utan fast centrum och alltid i rörelse. Så vill jag gärna tänka på den utveckling Edstrandska stiftelsen bidragit till — en mängd självständiga växter som fått möjlighet att växa sig starka var och en för sig\, och som samtidigt ingår i ett större nätverk av nära förbindelser mellan subjekt\, materia och föreställningsförmåga. Genom utställningens olika konstnärliga bidrag hoppas jag därför kunna förmedla känslan av att vi står mitt i ett utvidgat “nu”\, varifrån vi kan betrakta något i tillbakablick samtidigt som vi kan skåda framåt i tiden. \nJag hälsar er härmed välkomna till jubileumsutställningen\, ROTAD\, som inte avslutar 75 års historia\, utan snarare ger inblick i en levande rörelse som slog rötter\, och fortfarande blomstrar. \n— Laura Goldschmidt\, curator \nMedverkande konstnärer: Brita af Klercker (1906–2001)\, Ola Billgren (1940–2001)\, Cecilia Edefalk (f. 1954)\, Olafur Eliasson (f. 1967)\, Matts Leiderstam (f. 1956)\, Elmgreen & Dragset (f. 1961\, 1969)\, Miriam Bäckström (f. 1967)\, Astrid Svangren (f. 1972)\, Nathalie Djurberg & Hans Berg (f. 1978\, 1978)\, Luca Lee Frei (f. 1976)\, Andreas Eriksson (f. 1975)\, Nina Canell (f. 1979)\, Tamar Guimarães (f. 1967)\, Jens Fänge (f. 1965)\, Meriç Algün (f. 1983)\, Ingela Ihrman (f. 1985)\, Tarik Kiswanson (f. 1986)\, Marcus Matt (f. 1992)\, Hannes Östlund (f. 1993)\, Clara Gesang-Gottowt (f. 1985). \nBildtext: Nina Canell\, Tug\, 2021\, Subterranean cable junction\, 25x130x25 cm. Foto: Nick Ash \n 
URL:https://bastad.com/event/rotad-edstrandska-stiftelsen-75-ar/
LOCATION:RAVINEN Kulturhus\, Kattviksvägen 231\, Båstad\, Skåne\, 269 91\, Sweden
CATEGORIES:Konst och Kultur
ATTACH;FMTTYPE=image/jpeg:https://bastad.com/wp-content/uploads/2026/01/Nina-Canell_Tug_2021_FotoNickAsh_1-scaled_edited.jpg
ORGANIZER;CN="RAVINEN Kulturhus":MAILTO:info@ravinenkultur.se
END:VEVENT
BEGIN:VEVENT
DTSTART;VALUE=DATE:20260418
DTEND;VALUE=DATE:20260504
DTSTAMP:20260420T154335
CREATED:20260409T093615Z
LAST-MODIFIED:20260413T063201Z
UID:10000167-1776470400-1777852799@bastad.com
SUMMARY:Utställning LUST - Sandra Stojiljkovic
DESCRIPTION:L U S T – om att orka bli levande\nEn konstutställning av Sandra Stojiljkovic \nVälkommen till en stämningsfull utställning som utforskar lusten som vårt nödvändiga bränsle – den kraft som fyller på där det blivit tomt och ger oss energin att bli levande igen. Genom verk som kretsar kring mod\, hopp och stillhet bjuder konstnären in till en resa där varje titel studsar mot det stora temat: att orka resa sig och gå vidare. \nSandra Stojiljkovic är utbildad vid Teaterhögskolan i Malmö och har sedan 2008 arbetat som skådespelare inom teater och film. Sedan 2017 tillhör hon den fasta ensemblen på Malmö Stadsteater\, och för den breda publiken är hon även känd för sina roller i tv- och filmsammanhang\, däribland som Dani i succéserien Tunna blå linjen. \nÄven om drömmen om att måla funnits länge\, var det ett löfte till en nära vän som blev sjuk som slutligen fick Sandra att ta steget. Idag är måleriet en passionerad livsnödvändighet – en plats för fokus och närvaro där hon med stor ödmjukhet utforskar hantverkets helande kraft. \nÖppettider: lör-sön 12-16\nVernissage 18 april kl 12-16\nFinnissage 3 maj 12-16
URL:https://bastad.com/event/utstallning-lust-sandra-stojiljkovic/
LOCATION:Båstad\, Sweden
CATEGORIES:Konst och Kultur
ATTACH;FMTTYPE=image/jpeg:https://bastad.com/wp-content/uploads/2026/04/image1-1.jpeg
ORGANIZER;CN="Bj%C3%A4re Konsthall":MAILTO:johan@bjarekonsthall.se
END:VEVENT
BEGIN:VEVENT
DTSTART;VALUE=DATE:20260425
DTEND;VALUE=DATE:20260529
DTSTAMP:20260420T154335
CREATED:20260112T104619Z
LAST-MODIFIED:20260112T105350Z
UID:10000081-1777082400-1779933599@bastad.com
SUMMARY:Utställning BBK\, Katarina Gill & Mimi Belfrage Mohlin
DESCRIPTION:Välkomment till utställning för Båstad Bjäre Konstförening på Båstads Bibliotek. \n25/4 – 27/5 Katarina Gill GLAS\n”Planglas är mitt material – i fria figurer\noch blyinfattade glasmålningar. Glasets\nklarhet och det grafiska formspråket\ninspirerar. Högbränningen ger glaset\nstruktur som ökar ljusbrytningen.”\n/ Katarina Gill \n25/4 – 27/5 Mimi Belfrage Mohlin MÅLERI\n”Mina bilder växer inom mig i glädje\noch blir efter hand en bild i olja\,\nakryl eller grafik.”\n/ Mimi Belfrage Mohlin
URL:https://bastad.com/event/utstallning-bbk-katarina-gill-mimi-belfrage-mohlin/
LOCATION:Båstad Bjäre Konstförening\, Båstad Bibliotek\, Lyckan 7\, Båstad\, 269 31
CATEGORIES:Konst och Kultur
ATTACH;FMTTYPE=image/jpeg:https://bastad.com/wp-content/uploads/2026/01/Skarmbild-2026-01-12-124156.jpg
ORGANIZER;CN="B%C3%A5stad Bj%C3%A4re Konstf%C3%B6rening":MAILTO:info@bbk-bastad.se
END:VEVENT
BEGIN:VEVENT
DTSTART;TZID=Europe/Stockholm:20260501T083000
DTEND;TZID=Europe/Stockholm:20260501T130000
DTSTAMP:20260420T154335
CREATED:20260414T110031Z
LAST-MODIFIED:20260414T110031Z
UID:10000172-1777624200-1777640400@bastad.com
SUMMARY:1:a majhoppet Pay & Jump
DESCRIPTION:Vi på ridskolan kommer att anordna en 1:a maj hoppning för alla ridskoleelever samt övriga medlemmar som tycker det skulle vara roligt och givande.  1/5 med samling kl. 8.45 för banbyggnad och lite beroende på hur många med sluttid ca 13.00. Detta förutsätter att det kommer föräldrar och hjälper till att dels bygga upp banan och sedan riva den när det hela är slut. Ingen förkunskap nödvändig utan bara ett glatt humör och lite muskelkraft. \nVi behöver även några som kan hjälpa till med cafeterian och ordna med kaffe och bullar etc. Allt finns på plats men behöver någon som kan brygga kaffe och sätta fram osv\, \nTanken är att alla nivåer av elever kan delta. Knattarna behöver en ledare så någon förälder eller annan behöver hjälpa dom. Deltagarna kommer att delas in i grupper beroende på kunskapsnivån. De som inte är ridskoleelever kommer i en grupp efter ridskolans elever har ridit. Kostnaden för ridskoleelever inkl. hästhyra är 249:-. Deltagare med egen häst betalar 149:-. Samtliga deltagare får en av våra fina klubbrosetter. \n  \nAnmälan senast den 24 april payandjump@bastadsrk.se tillsammans med betalning till vår swish 123 312 35 02 \nAnge PoJ och ryttarens namn vid anmälan och betalning.
URL:https://bastad.com/event/1a-majhoppet-pay-jump/
LOCATION:Båstad\, Sweden
CATEGORIES:Sport och Friluftsliv
ATTACH;FMTTYPE=image/png:https://bastad.com/wp-content/uploads/2026/04/PAYANDJUMP.png
END:VEVENT
BEGIN:VEVENT
DTSTART;TZID=Europe/Stockholm:20260501T130000
DTEND;TZID=Europe/Stockholm:20260501T180000
DTSTAMP:20260420T154335
CREATED:20260304T144133Z
LAST-MODIFIED:20260304T144133Z
UID:10000126-1777640400-1777658400@bastad.com
SUMMARY:Båstad Drakfestival
DESCRIPTION:Flyga drake är något som alla blir glada för\, unga som de lite äldre.\nTa med din egen drake eller så prövar du en drake av oss på Båstad Kite. Vi har också ett stort urval av drakar till försäljning. Från drakar till de minsta barnen till de lite större för de större ”barnen”.\nGlöm inte picknik korgen.\nVi ses på stranden nedanför Hotell Riviera.
URL:https://bastad.com/event/bastad-drakfestival/
LOCATION:Båstad\, Sweden
CATEGORIES:Familj och Barn,Festivaler och Marknader,Sport och Friluftsliv
ATTACH;FMTTYPE=image/jpeg:https://bastad.com/wp-content/uploads/2026/03/d765a77c-026f-4437-b0e6-20b46a8d6e15.jpg
ORGANIZER;CN="B%C3%A5stad Kite":MAILTO:info@bastadkite.se
END:VEVENT
BEGIN:VEVENT
DTSTART;TZID=Europe/Stockholm:20260502T110000
DTEND;TZID=Europe/Stockholm:20260502T150000
DTSTAMP:20260420T154335
CREATED:20260401T084720Z
LAST-MODIFIED:20260401T084720Z
UID:10000158-1777719600-1777734000@bastad.com
SUMMARY:Planteringsevent på Thora Vingård
DESCRIPTION:Lördagen den 2 maj bjuder vi in till en dag i vingården där du får vara med och plantera nya vinrankor – en viktig del av arbetet på vingården. \nPå Thora Vingård\, vackert beläget på Bjärehalvön\, välkomnar vi dig att ta del av våren i vingården. Under ledning av våra vinmakare Emma Berto och Romain Chichery får du en introduktion till arbetet och deltar i planteringen ute i vingården. Dagen avslutas med vingårdslunch på Restaurang Flora. \nAtt arbeta i vingården innebär att vara utomhus och arbeta med händerna. Vi rekommenderar därför oömma kläder och skor efter väder. \nVälkommen att vara med och sätta grunden för kommande årgångar! \nDatum & tid: Lördag 2 maj kl. 11:00\nPlats: Thora Vingård\nPris: 995 kr per person \nPriset inkluderar:\nKortare guidad tur i vingården\, plantering av vinrankor med guidning av Emma Berto & Romain\nChichery\, vingårdslunch på Flora inklusive chokladpralin & kaffe\, smakprov av ett vin
URL:https://bastad.com/event/planteringsevent-pa-thora-vingard/
LOCATION:Båstad\, Sweden
CATEGORIES:Mat och Dryck,Övrigt
ATTACH;FMTTYPE=image/jpeg:https://bastad.com/wp-content/uploads/2026/03/IMG_9179-2-scaled.jpg
END:VEVENT
BEGIN:VEVENT
DTSTART;TZID=Europe/Stockholm:20260502T190000
DTEND;TZID=Europe/Stockholm:20260502T220000
DTSTAMP:20260420T154335
CREATED:20260409T094248Z
LAST-MODIFIED:20260409T094248Z
UID:10000164-1777748400-1777759200@bastad.com
SUMMARY:Irländskafton med Dun Angus på Båstad Camping
DESCRIPTION:Välkommen till en stämningsfull kväll fylld av irländsk musik\, glädje och gemenskap. Bandet Dun Angus bjuder på svängiga toner\, traditionella melodier och riktig pubkänsla. Ta med vännerna\, luta dig tillbaka och njut av en kväll där Irland möter Båstad.
URL:https://bastad.com/event/irlandskafton-med-dun-angus-pa-bastad-camping/
LOCATION:Båstad\, Sweden
CATEGORIES:Musik och Konserter
ATTACH;FMTTYPE=image/jpeg:https://bastad.com/wp-content/uploads/2026/04/Dun-angus.jpg
END:VEVENT
BEGIN:VEVENT
DTSTART;TZID=Europe/Stockholm:20260509T100000
DTEND;TZID=Europe/Stockholm:20260509T140000
DTSTAMP:20260420T154335
CREATED:20260401T084422Z
LAST-MODIFIED:20260401T084433Z
UID:10000159-1778320800-1778335200@bastad.com
SUMMARY:Loppisdag på BBSS - Båstad Båt & Segelsällskap
DESCRIPTION:⚓ Välkommen till en härlig dag vid havet med BBSS! ⚓\nLördagen den 9 maj kl. 10:00 bjuder vi in till en dag vid klubbstugan i hamnen – en dag fylld av gemenskap och roliga aktiviteter för hela familjen! \n🛍️ Loppis – fynda bland massor av spännande prylar\n⛵ Prova‑på‑segling (om vädret tillåter)\n🎟️ Lotteri med många fina priser – missa inte chansen att vinna!\n🚨Sjöräddningssällskapet RS Torekov på plats – kom och träffa vardagshjältar till sjöss\n🌭 Grillad korv & dricka till försäljning \nVill du sälja på loppisen?\n📧 BOKA din försäljningsplats för 100 kr genom att mejla info@bbss.se (Obs! Bord tillhandahålls ej) \nTa med familj\, vänner och ett gott humör 😃\n💙 Varmt välkomna till en dag fylld av glädje\, gemenskap och havskänsla!💙
URL:https://bastad.com/event/loppisdag-pa-bbss-bastad-bat-segelsallskap/
LOCATION:Båstad\, Sweden
CATEGORIES:Familj och Barn
ATTACH;FMTTYPE=image/jpeg:https://bastad.com/wp-content/uploads/2026/03/20250713_083123209_iOS-scaled.jpeg
END:VEVENT
BEGIN:VEVENT
DTSTART;VALUE=DATE:20260514
DTEND;VALUE=DATE:20260518
DTSTAMP:20260420T154335
CREATED:20260401T101904Z
LAST-MODIFIED:20260401T101904Z
UID:10000161-1778716800-1779062399@bastad.com
SUMMARY:Bjäre Primörgille 14-17 maj 2026
DESCRIPTION:Kockarna från Bjäres restauranger ger sig själva ut på Bjäres åkrar – inte bara för att välja råvaror\, utan för att själva skörda årets första primörer.\nMed en passion för det lokala matlandskapet plockar de varsamt upp späda grönsaker direkt ur myllan\, precis när de är som allra bäst.\nDet som skördas på morgonen hamnar på tallriken samma dag. Från fält till kök\, utan omvägar. I restaurangerna förvandlas de nyplockade råvarorna till rätter som speglar säsongen\, platsen och hantverket bakom varje tugga. \nHär handlar mat inte bara om smak – det handlar om närhet\, stolthet och en djup respekt för naturens rytm. Varje primör berättar en historia om Bjäre\, och varje måltid blir en hyllning till det lokala.
URL:https://bastad.com/event/bjare-primorgille-14-17-maj-2026/
LOCATION:Båstad\, Sweden
CATEGORIES:Mat och Dryck
ATTACH;FMTTYPE=image/png:https://bastad.com/wp-content/uploads/2026/04/Primorgille.png
END:VEVENT
BEGIN:VEVENT
DTSTART;VALUE=DATE:20260516
DTEND;VALUE=DATE:20260517
DTSTAMP:20260420T154335
CREATED:20260220T105354Z
LAST-MODIFIED:20260220T105829Z
UID:10000124-1778889600-1778975999@bastad.com
SUMMARY:Bjäre Vin- & Dryckesfestival
DESCRIPTION:Den 16 maj 2026 är det äntligen dags igen för Bjäre Vin- & Dryckesfestival på Hotel Skansen i Båstad. Under en försommardag fylld av smaker samlas besökare\, lokala vinmakare\, dryckesproducenter från Bjärehalvön och importörer från hela Sverige. Se fram emot en helg som bubblar av smakrika möten\, inspirerande kunskap\, provningar\, utbildningar\, god mat och festlig stämning – allt i ett somrigt Båstad. \nProgram och utställare presenteras inom kort.
URL:https://bastad.com/event/bjare-vin-dryckesfestival/
LOCATION:Hotel Skansen\, Kyrkogatan\, Båstad\, Sweden
CATEGORIES:Mat och Dryck
ATTACH;FMTTYPE=image/jpeg:https://bastad.com/wp-content/uploads/2026/02/HS-druvorna1920x820.jpg
END:VEVENT
BEGIN:VEVENT
DTSTART;TZID=Europe/Stockholm:20260523T110000
DTEND;TZID=Europe/Stockholm:20260523T170000
DTSTAMP:20260420T154335
CREATED:20260212T122423Z
LAST-MODIFIED:20260212T122423Z
UID:10000119-1779534000-1779555600@bastad.com
SUMMARY:Moveat Båstad
DESCRIPTION:Välkommen på Moveat Original i Båstad – ett kul och gott sätt att umgås.\nUpptäck Båstad genom dess mat och dryck tillsammans med vännerna\, familjen eller dejten. I biljetten ingår ett antal smakportioner från noga utvalda smakstopp runt om i stan. \nBesök restauranger\, delis och bagerier och låt smaklökarna dansa sig genom fine dining\, streetfood och lokal matkonst i litet format. Du och ditt sällskap besöker smakstoppen i valfri takt och ordning – med Moveat-appen som guide.
URL:https://bastad.com/event/moveat-bastad/
LOCATION:Båstad\, Sweden
CATEGORIES:Mat och Dryck
ATTACH;FMTTYPE=image/jpeg:https://bastad.com/wp-content/uploads/2026/02/Moveat_evenemangsbild.jpg
ORGANIZER;CN="Moveat":MAILTO:hello@moveat.co
END:VEVENT
BEGIN:VEVENT
DTSTART;TZID=Europe/Stockholm:20260530T120000
DTEND;TZID=Europe/Stockholm:20260530T160000
DTSTAMP:20260420T154335
CREATED:20260409T094526Z
LAST-MODIFIED:20260409T094526Z
UID:10000163-1780142400-1780156800@bastad.com
SUMMARY:Volkswagen-bilutställning
DESCRIPTION:Den 30 maj rullar det in blänkande pärlor till bilutställning på Båstad Camping! \nKom och njut av snygga bilar\, skön stämning och en härlig dag på campingen. Grillen är tänd och i restaurangen finns god mat och dryck – perfekt för en heldag fylld av motor\, gemenskap och sommarkänsla. \nVälkommen!
URL:https://bastad.com/event/volkswagen-bilutstallning/
LOCATION:Båstad\, Sweden
CATEGORIES:Övrigt
ATTACH;FMTTYPE=image/jpeg:https://bastad.com/wp-content/uploads/2026/04/11694812_969170433135679_9211357274575192924_n.jpeg
END:VEVENT
END:VCALENDAR