BEGIN:VCALENDAR
VERSION:2.0
PRODID:-//Visit Båstad - ECPv6.15.14//NONSGML v1.0//EN
CALSCALE:GREGORIAN
METHOD:PUBLISH
X-WR-CALNAME:Visit Båstad
X-ORIGINAL-URL:https://bastad.com
X-WR-CALDESC:Händelser för Visit Båstad
REFRESH-INTERVAL;VALUE=DURATION:PT1H
X-Robots-Tag:noindex
X-PUBLISHED-TTL:PT1H
BEGIN:VTIMEZONE
TZID:Europe/Stockholm
BEGIN:DAYLIGHT
TZOFFSETFROM:+0100
TZOFFSETTO:+0200
TZNAME:CEST
DTSTART:20250330T010000
END:DAYLIGHT
BEGIN:STANDARD
TZOFFSETFROM:+0200
TZOFFSETTO:+0100
TZNAME:CET
DTSTART:20251026T010000
END:STANDARD
BEGIN:DAYLIGHT
TZOFFSETFROM:+0100
TZOFFSETTO:+0200
TZNAME:CEST
DTSTART:20260329T010000
END:DAYLIGHT
BEGIN:STANDARD
TZOFFSETFROM:+0200
TZOFFSETTO:+0100
TZNAME:CET
DTSTART:20261025T010000
END:STANDARD
BEGIN:DAYLIGHT
TZOFFSETFROM:+0100
TZOFFSETTO:+0200
TZNAME:CEST
DTSTART:20270328T010000
END:DAYLIGHT
BEGIN:STANDARD
TZOFFSETFROM:+0200
TZOFFSETTO:+0100
TZNAME:CET
DTSTART:20271031T010000
END:STANDARD
END:VTIMEZONE
BEGIN:VEVENT
DTSTART;TZID=Europe/Stockholm:20260704T090000
DTEND;TZID=Europe/Stockholm:20260704T150000
DTSTAMP:20260419T205602
CREATED:20260204T114748Z
LAST-MODIFIED:20260204T114748Z
UID:10000105-1783155600-1783177200@bastad.com
SUMMARY:Båstad Marathon
DESCRIPTION:Båstad Marathon avgörs när solen står som högst på året\, med start och mål vid strandpromenaden i Båstad. Loppet bjuder på en naturskön och utmanande bana genom Båstads gator\, över Hallandsåsen\, via Torekov och vidare mot Hovs Hallar och Kattvik innan målgång i Båstad. Halvmaraton startar utanför Torekov och går i mål i Båstad.\nMaraton startar kl. 09.00 och halvmaraton kl. 11.00. Mindre justeringar av banan kan förekomma fram till veckan före loppdagen.
URL:https://bastad.com/event/bastad-marathon/
LOCATION:Båstad\, Sweden
CATEGORIES:Hälsa och Wellness,Naturupplevelser och Utflykter,Sport och Friluftsliv
ATTACH;FMTTYPE=image/jpeg:https://bastad.com/wp-content/uploads/2026/02/Bild7.jpg
END:VEVENT
BEGIN:VEVENT
DTSTART;VALUE=DATE:20260725
DTEND;VALUE=DATE:20260726
DTSTAMP:20260419T205602
CREATED:20260319T145050Z
LAST-MODIFIED:20260319T145050Z
UID:10000141-1784937600-1785023999@bastad.com
SUMMARY:Bjäre Trail 2026
DESCRIPTION:Bjäre Trail – ett terränglopp utöver det vanliga \nLoppet för dig som vill ha en extra utmaning! \nVågar du anmäla dig till ett trail-lopp som erbjuder det mesta och lite till … Banan är VÄLDIGT kuperad! Ni springer upp och ner längs Hallandsåsens norrsida\, ni kommer springa genom Sinarpsdalen\, närmare Astrid Lindgrens ”Körsbärsdalen” kommer man inte i verkligheten (enda skillnaden är att körsbärsträden inte blommar i juli). Ni springer genom täta bokskogar med forsande vattenfall\, beteshagar med betande djur\, nedlagd skidbacke\, nedlagd järnväg. \nMånga har sagt -”aldrig igen” när de har gått i mål\, men alltid återvänt året efter! Det utlovas förutom massor av mjölksyra i benen en otaliga tillfällen till leenden och sagolik utsikt som slår det mesta. Välkomna med din anmälan! \nDistanserna är 12km\, 17km\, 34km\, 51km & 5km barn 10-15år \nStart och mål är vid Båstad Företagsby\, Ängelholmsvägen 269 42 Båstad
URL:https://bastad.com/event/bjare-trail-2026/
LOCATION:Båstad\, Sweden
CATEGORIES:Sport och Friluftsliv
ATTACH;FMTTYPE=image/jpeg:https://bastad.com/wp-content/uploads/2026/03/bjare-trail.jpg
END:VEVENT
BEGIN:VEVENT
DTSTART;VALUE=DATE:20260731
DTEND;VALUE=DATE:20260804
DTSTAMP:20260419T205602
CREATED:20251222T080858Z
LAST-MODIFIED:20251222T081058Z
UID:10000071-1785463200-1785722399@bastad.com
SUMMARY:Junior-SM Discgolf 2026
DESCRIPTION:Årets Junior-SM i Discgolf spelas på Äppelgården i Båstad. Se våra framtida stjärnor göra upp om titeln direkt här i Båstad. \nFri entré! \nDagarna före SM finns svenska Juniorlandslaget i Discgolf på plats för uppvärmning och träning. Kanske det perfekta tillfället att se våra bästa spelare kasta och träffa andra discgolfentusiaster och utbyta tips\, erfarenheter med mera.
URL:https://bastad.com/event/junior-sm-discgolf-2026/
LOCATION:Äppelgården\, Hallandsvägen 400\, Båstad\, 269 96\, Sweden
CATEGORIES:Sport och Friluftsliv
ATTACH;FMTTYPE=image/jpeg:https://bastad.com/wp-content/uploads/2025/12/appelgarden-discgolf.jpg
ORGANIZER;CN="Svenska Discgolff%C3%B6rbundet":MAILTO:info@svenskdiscgolf.se
END:VEVENT
END:VCALENDAR