BEGIN:VCALENDAR
VERSION:2.0
PRODID:-//Visit Båstad - ECPv6.15.14//NONSGML v1.0//EN
CALSCALE:GREGORIAN
METHOD:PUBLISH
X-ORIGINAL-URL:https://bastad.com
X-WR-CALDESC:Händelser för Visit Båstad
REFRESH-INTERVAL;VALUE=DURATION:PT1H
X-Robots-Tag:noindex
X-PUBLISHED-TTL:PT1H
BEGIN:VTIMEZONE
TZID:Europe/Stockholm
BEGIN:DAYLIGHT
TZOFFSETFROM:+0100
TZOFFSETTO:+0200
TZNAME:CEST
DTSTART:20250330T010000
END:DAYLIGHT
BEGIN:STANDARD
TZOFFSETFROM:+0200
TZOFFSETTO:+0100
TZNAME:CET
DTSTART:20251026T010000
END:STANDARD
BEGIN:DAYLIGHT
TZOFFSETFROM:+0100
TZOFFSETTO:+0200
TZNAME:CEST
DTSTART:20260329T010000
END:DAYLIGHT
BEGIN:STANDARD
TZOFFSETFROM:+0200
TZOFFSETTO:+0100
TZNAME:CET
DTSTART:20261025T010000
END:STANDARD
BEGIN:DAYLIGHT
TZOFFSETFROM:+0100
TZOFFSETTO:+0200
TZNAME:CEST
DTSTART:20270328T010000
END:DAYLIGHT
BEGIN:STANDARD
TZOFFSETFROM:+0200
TZOFFSETTO:+0100
TZNAME:CET
DTSTART:20271031T010000
END:STANDARD
END:VTIMEZONE
BEGIN:VEVENT
DTSTART;TZID=Europe/Stockholm:20260330T100000
DTEND;TZID=Europe/Stockholm:20260403T140000
DTSTAMP:20260421T004948
CREATED:20260330T074751Z
LAST-MODIFIED:20260330T074751Z
UID:10000147-1774864800-1775224800@bastad.com
SUMMARY:Påsklovsbus på Margretetorp
DESCRIPTION:Måndag till fredag bjuder vi in till ett färgsprakande och lekfullt påskfirande för barnfamiljer. Under hela veckan väntar aktiviteter både ute och inne – med något nytt att upptäcka varje dag!
URL:https://bastad.com/event/pasklovsbus-pa-margretetorp/
LOCATION:Margretetorps Gästgifvaregård\, Kägle väg 9\, Hjärnarp\, 266 98
CATEGORIES:Familj och Barn
ATTACH;FMTTYPE=image/jpeg:https://bastad.com/wp-content/uploads/2026/03/Paskalovsbus2026-scaled.jpg
ORGANIZER;CN="Margretetorps G%C3%A4stgifvareg%C3%A5rd":MAILTO:info@margretetorp.se
END:VEVENT
BEGIN:VEVENT
DTSTART;TZID=Europe/Stockholm:20260401T100000
DTEND;TZID=Europe/Stockholm:20260406T170000
DTSTAMP:20260421T004948
CREATED:20260219T101921Z
LAST-MODIFIED:20260219T102233Z
UID:10000122-1775037600-1775494800@bastad.com
SUMMARY:Påsk på Norrviken
DESCRIPTION:Våren gör entré på Norrviken och trädgårdarna vaknar långsamt till liv. Under påsken bjuder parken på vårinspiration i olika former. Här kan du vandra bland utställningar\, slå dig ner en stund i grönskan och upptäcka nya perspektiv i takt med att säsongen tar form. \nHelgen 3-5 april: \nUnder påskhelgen finns det mycket att upptäcka. För de yngre väntar lekfulla inslag -påskharar rör sig i trädgårdarna\, barnen kan plantera egna sticklingar att ta med hem och den populära äggjakten gör påsken till ett äventyr för hela familjen. \nVälkommen att fira påsk och vår på Norrvikens trädgårdar.
URL:https://bastad.com/event/pask-pa-norrviken/
LOCATION:Norrvikens Trädgårdar\, Kattviksvägen 233\, Båstad\, Skåne\, 26933\, Sweden
CATEGORIES:Familj och Barn
ATTACH;FMTTYPE=image/jpeg:https://bastad.com/wp-content/uploads/2026/02/erio-r-web-7.jpg
END:VEVENT
BEGIN:VEVENT
DTSTART;TZID=Europe/Stockholm:20260402T120000
DTEND;TZID=Europe/Stockholm:20260406T060000
DTSTAMP:20260421T004948
CREATED:20260324T141624Z
LAST-MODIFIED:20260324T141624Z
UID:10000145-1775131200-1775455200@bastad.com
SUMMARY:Alla ateljéers vårsalong 2026.
DESCRIPTION:Allas ateljéer bjuder in till vårsalong! Det blir en härlig blandning av färg och form då 9 stycken lokala konstnärer visar upp sin konst i denna samlingsutställning. \nUtställarna är: Gunilla Hovenäs\, Sara Ångström\, Jonna Karin Sahlström\, Camilla Möller\, Mikaela Nordlund\, Anncatrin Berglund\, Monika Filipsson\, Jeanette Ringwall och Susann Taubert. På plats kommer även Allas Ateljéer finnas och bjuda på små workshops under helgen. Mer information och uppdateringar kan Ni hitta på instagram via Allasateljeer eller facebook Allas Ateljéer Båstad. \nVernissage skärtorsdag 2 April 12:00-18:00\nÖppet hela påskhelgen 12:00-18:00 \nVälkommen!
URL:https://bastad.com/event/alla-ateljeers-varsalong-2026/
LOCATION:Båstad\, Sweden
CATEGORIES:Familj och Barn,Konst och Kultur
ATTACH;FMTTYPE=image/jpeg:https://bastad.com/wp-content/uploads/2026/03/Allas-ateljeervarsalong2026-scaled.jpg
ORGANIZER;CN="Allas atelj%C3%A9er i B%C3%A5stad":MAILTO:allasateljeer@gmail.com
END:VEVENT
BEGIN:VEVENT
DTSTART;TZID=Europe/Stockholm:20260403T110000
DTEND;TZID=Europe/Stockholm:20260404T143000
DTSTAMP:20260421T004948
CREATED:20260312T131335Z
LAST-MODIFIED:20260312T131335Z
UID:10000132-1775214000-1775313000@bastad.com
SUMMARY:Fira påsk på First Camp Torekov
DESCRIPTION:Välkommen till ett härligt påskfirande i Torekov. Under påskhelgen så bjuder First Camp Torekov in till påskfirande. Massa kul för barnen med aktiviteter som påskpyssel\, ansiktsmålning och såklart jakten på påskägg. \nFredag 3 april \n11:00 Tipspromenad (finns både för barn & vuxna) \n13:00 Påskpyssel \n14:30 Prisutdelning tipspromenad \n  \nLördag 4 april \n11:00 Jakten på påskägg \n13:00-14:30 Ansiktsmålning \n14:00 Påskpyssel
URL:https://bastad.com/event/fira-pask-pa-first-camp-torekov/
LOCATION:First Camp Torekov – Båstad\, Flymossavägen 5\, Torekov\, 26976
CATEGORIES:Familj och Barn
ATTACH;FMTTYPE=image/png:https://bastad.com/wp-content/uploads/2026/03/First-camp-pask.png
END:VEVENT
END:VCALENDAR