BEGIN:VCALENDAR
VERSION:2.0
PRODID:-//Visit Båstad - ECPv6.15.14//NONSGML v1.0//EN
CALSCALE:GREGORIAN
METHOD:PUBLISH
X-ORIGINAL-URL:https://bastad.com
X-WR-CALDESC:Händelser för Visit Båstad
REFRESH-INTERVAL;VALUE=DURATION:PT1H
X-Robots-Tag:noindex
X-PUBLISHED-TTL:PT1H
BEGIN:VTIMEZONE
TZID:Europe/Stockholm
BEGIN:DAYLIGHT
TZOFFSETFROM:+0100
TZOFFSETTO:+0200
TZNAME:CEST
DTSTART:20250330T010000
END:DAYLIGHT
BEGIN:STANDARD
TZOFFSETFROM:+0200
TZOFFSETTO:+0100
TZNAME:CET
DTSTART:20251026T010000
END:STANDARD
BEGIN:DAYLIGHT
TZOFFSETFROM:+0100
TZOFFSETTO:+0200
TZNAME:CEST
DTSTART:20260329T010000
END:DAYLIGHT
BEGIN:STANDARD
TZOFFSETFROM:+0200
TZOFFSETTO:+0100
TZNAME:CET
DTSTART:20261025T010000
END:STANDARD
BEGIN:DAYLIGHT
TZOFFSETFROM:+0100
TZOFFSETTO:+0200
TZNAME:CEST
DTSTART:20270328T010000
END:DAYLIGHT
BEGIN:STANDARD
TZOFFSETFROM:+0200
TZOFFSETTO:+0100
TZNAME:CET
DTSTART:20271031T010000
END:STANDARD
END:VTIMEZONE
BEGIN:VEVENT
DTSTART;TZID=Europe/Stockholm:20260501T130000
DTEND;TZID=Europe/Stockholm:20260501T180000
DTSTAMP:20260420T225835
CREATED:20260304T144133Z
LAST-MODIFIED:20260304T144133Z
UID:10000126-1777640400-1777658400@bastad.com
SUMMARY:Båstad Drakfestival
DESCRIPTION:Flyga drake är något som alla blir glada för\, unga som de lite äldre.\nTa med din egen drake eller så prövar du en drake av oss på Båstad Kite. Vi har också ett stort urval av drakar till försäljning. Från drakar till de minsta barnen till de lite större för de större ”barnen”.\nGlöm inte picknik korgen.\nVi ses på stranden nedanför Hotell Riviera.
URL:https://bastad.com/event/bastad-drakfestival/
LOCATION:Båstad\, Sweden
CATEGORIES:Familj och Barn,Festivaler och Marknader,Sport och Friluftsliv
ATTACH;FMTTYPE=image/jpeg:https://bastad.com/wp-content/uploads/2026/03/d765a77c-026f-4437-b0e6-20b46a8d6e15.jpg
ORGANIZER;CN="B%C3%A5stad Kite":MAILTO:info@bastadkite.se
END:VEVENT
BEGIN:VEVENT
DTSTART;TZID=Europe/Stockholm:20260509T100000
DTEND;TZID=Europe/Stockholm:20260509T140000
DTSTAMP:20260420T225835
CREATED:20260401T084422Z
LAST-MODIFIED:20260401T084433Z
UID:10000159-1778320800-1778335200@bastad.com
SUMMARY:Loppisdag på BBSS - Båstad Båt & Segelsällskap
DESCRIPTION:⚓ Välkommen till en härlig dag vid havet med BBSS! ⚓\nLördagen den 9 maj kl. 10:00 bjuder vi in till en dag vid klubbstugan i hamnen – en dag fylld av gemenskap och roliga aktiviteter för hela familjen! \n🛍️ Loppis – fynda bland massor av spännande prylar\n⛵ Prova‑på‑segling (om vädret tillåter)\n🎟️ Lotteri med många fina priser – missa inte chansen att vinna!\n🚨Sjöräddningssällskapet RS Torekov på plats – kom och träffa vardagshjältar till sjöss\n🌭 Grillad korv & dricka till försäljning \nVill du sälja på loppisen?\n📧 BOKA din försäljningsplats för 100 kr genom att mejla info@bbss.se (Obs! Bord tillhandahålls ej) \nTa med familj\, vänner och ett gott humör 😃\n💙 Varmt välkomna till en dag fylld av glädje\, gemenskap och havskänsla!💙
URL:https://bastad.com/event/loppisdag-pa-bbss-bastad-bat-segelsallskap/
LOCATION:Båstad\, Sweden
CATEGORIES:Familj och Barn
ATTACH;FMTTYPE=image/jpeg:https://bastad.com/wp-content/uploads/2026/03/20250713_083123209_iOS-scaled.jpeg
END:VEVENT
END:VCALENDAR