BEGIN:VCALENDAR
VERSION:2.0
PRODID:-//Visit Båstad - ECPv6.15.14//NONSGML v1.0//EN
CALSCALE:GREGORIAN
METHOD:PUBLISH
X-WR-CALNAME:Visit Båstad
X-ORIGINAL-URL:https://bastad.com
X-WR-CALDESC:Händelser för Visit Båstad
REFRESH-INTERVAL;VALUE=DURATION:PT1H
X-Robots-Tag:noindex
X-PUBLISHED-TTL:PT1H
BEGIN:VTIMEZONE
TZID:Europe/Stockholm
BEGIN:DAYLIGHT
TZOFFSETFROM:+0100
TZOFFSETTO:+0200
TZNAME:CEST
DTSTART:20250330T010000
END:DAYLIGHT
BEGIN:STANDARD
TZOFFSETFROM:+0200
TZOFFSETTO:+0100
TZNAME:CET
DTSTART:20251026T010000
END:STANDARD
BEGIN:DAYLIGHT
TZOFFSETFROM:+0100
TZOFFSETTO:+0200
TZNAME:CEST
DTSTART:20260329T010000
END:DAYLIGHT
BEGIN:STANDARD
TZOFFSETFROM:+0200
TZOFFSETTO:+0100
TZNAME:CET
DTSTART:20261025T010000
END:STANDARD
BEGIN:DAYLIGHT
TZOFFSETFROM:+0100
TZOFFSETTO:+0200
TZNAME:CEST
DTSTART:20270328T010000
END:DAYLIGHT
BEGIN:STANDARD
TZOFFSETFROM:+0200
TZOFFSETTO:+0100
TZNAME:CET
DTSTART:20271031T010000
END:STANDARD
END:VTIMEZONE
BEGIN:VEVENT
DTSTART;TZID=Europe/Stockholm:20260330T130000
DTEND;TZID=Europe/Stockholm:20260330T150000
DTSTAMP:20260421T062834
CREATED:20260330T082859Z
LAST-MODIFIED:20260330T082859Z
UID:10000154-1774875600-1774882800@bastad.com
SUMMARY:Spel på biblioteket
DESCRIPTION:Spelhäng på biblioteket under påsklovet! \n\n\n\n\nTillsammans spelar vi flerspelarspel på Nintendo Switch\, både med och mot varandra. Vi bjuder på fika. \nVälkommen oavsett om du är nybörjare eller har spelat förut. \nFrån 10 år.
URL:https://bastad.com/event/spel-pa-biblioteket/
LOCATION:Båstads Bibliotek\, Lyckan 7\, Båstad\, Skåne\, 26931\, Sweden
CATEGORIES:Övrigt
ATTACH;FMTTYPE=image/png:https://bastad.com/wp-content/uploads/2026/03/Spel-pa-bibblan.png
END:VEVENT
END:VCALENDAR