BEGIN:VCALENDAR
VERSION:2.0
PRODID:-//Visit Båstad - ECPv6.15.14//NONSGML v1.0//EN
CALSCALE:GREGORIAN
METHOD:PUBLISH
X-ORIGINAL-URL:https://bastad.com
X-WR-CALDESC:Händelser för Visit Båstad
REFRESH-INTERVAL;VALUE=DURATION:PT1H
X-Robots-Tag:noindex
X-PUBLISHED-TTL:PT1H
BEGIN:VTIMEZONE
TZID:Europe/Stockholm
BEGIN:DAYLIGHT
TZOFFSETFROM:+0100
TZOFFSETTO:+0200
TZNAME:CEST
DTSTART:20250330T010000
END:DAYLIGHT
BEGIN:STANDARD
TZOFFSETFROM:+0200
TZOFFSETTO:+0100
TZNAME:CET
DTSTART:20251026T010000
END:STANDARD
BEGIN:DAYLIGHT
TZOFFSETFROM:+0100
TZOFFSETTO:+0200
TZNAME:CEST
DTSTART:20260329T010000
END:DAYLIGHT
BEGIN:STANDARD
TZOFFSETFROM:+0200
TZOFFSETTO:+0100
TZNAME:CET
DTSTART:20261025T010000
END:STANDARD
BEGIN:DAYLIGHT
TZOFFSETFROM:+0100
TZOFFSETTO:+0200
TZNAME:CEST
DTSTART:20270328T010000
END:DAYLIGHT
BEGIN:STANDARD
TZOFFSETFROM:+0200
TZOFFSETTO:+0100
TZNAME:CET
DTSTART:20271031T010000
END:STANDARD
END:VTIMEZONE
BEGIN:VEVENT
DTSTART;TZID=Europe/Stockholm:20260402T120000
DTEND;TZID=Europe/Stockholm:20260406T060000
DTSTAMP:20260421T001246
CREATED:20260324T141624Z
LAST-MODIFIED:20260324T141624Z
UID:10000145-1775131200-1775455200@bastad.com
SUMMARY:Alla ateljéers vårsalong 2026.
DESCRIPTION:Allas ateljéer bjuder in till vårsalong! Det blir en härlig blandning av färg och form då 9 stycken lokala konstnärer visar upp sin konst i denna samlingsutställning. \nUtställarna är: Gunilla Hovenäs\, Sara Ångström\, Jonna Karin Sahlström\, Camilla Möller\, Mikaela Nordlund\, Anncatrin Berglund\, Monika Filipsson\, Jeanette Ringwall och Susann Taubert. På plats kommer även Allas Ateljéer finnas och bjuda på små workshops under helgen. Mer information och uppdateringar kan Ni hitta på instagram via Allasateljeer eller facebook Allas Ateljéer Båstad. \nVernissage skärtorsdag 2 April 12:00-18:00\nÖppet hela påskhelgen 12:00-18:00 \nVälkommen!
URL:https://bastad.com/event/alla-ateljeers-varsalong-2026/
LOCATION:Båstad\, Sweden
CATEGORIES:Familj och Barn,Konst och Kultur
ATTACH;FMTTYPE=image/jpeg:https://bastad.com/wp-content/uploads/2026/03/Allas-ateljeervarsalong2026-scaled.jpg
ORGANIZER;CN="Allas atelj%C3%A9er i B%C3%A5stad":MAILTO:allasateljeer@gmail.com
END:VEVENT
BEGIN:VEVENT
DTSTART;VALUE=DATE:20260403
DTEND;VALUE=DATE:20260414
DTSTAMP:20260421T001246
CREATED:20251215T075253Z
LAST-MODIFIED:20251215T075424Z
UID:10000053-1775181600-1776045599@bastad.com
SUMMARY:Konstrundan i Nordvästra Skåne
DESCRIPTION:Konstrundan i Nordvästra Skåne 3-12 april med vernissage 3 april. \nUpplev konst\, kreativitet och öppna ateljéer i regionen.
URL:https://bastad.com/event/konstrundan-i-nordvastra-skane/
LOCATION:Bjärehalvön\, Båstad\, 26933\, Sweden
CATEGORIES:Konst och Kultur
ATTACH;FMTTYPE=image/jpeg:https://bastad.com/wp-content/uploads/2025/12/Konstrundan.jpg
END:VEVENT
BEGIN:VEVENT
DTSTART;TZID=Europe/Stockholm:20260403T190000
DTEND;TZID=Europe/Stockholm:20260403T230000
DTSTAMP:20260421T001246
CREATED:20251222T074117Z
LAST-MODIFIED:20251222T074117Z
UID:10000068-1775242800-1775257200@bastad.com
SUMMARY:Birgit Nilsson - ett musikaliskt lustspel
DESCRIPTION:Från Bethögen till Beethoven – det är så Birgit Nilsson själv beskrev sin makalösa karriär. Det tar vi fasta på i denna humorfyllda skildring av hennes barn-och ungdomsår\, där hennes drömmar nöts mot kraven att ta över gården – ensambarn som hon var. Hennes starka livsglädje\, hennes starka personlighet och hennes minst sagt starka röst blir hennes motor i resan till absoluta toppen. Den motorn\, det självförtroendet\, den arbetskapaciteten tar henne till Milano\, Wien\, New York \nDet är ett lustfyllt skådespel med särskilt fokus på hennes tid på Bjäre. Efter succén i somras på Bjäre hembygdsgård och på uppmaning av vår publik spelas nu ytterligare 4 föreställningar på Grevieparken (inomhus) \nNi kommer att möta föräldrar\, tjänstefolk\, operasångare\, sångpedagog\, präst\, påklädare m.m. Handlingen utspelar sig växelvis på gården och Metropolitan i New York. Vi har siktat på att finna roande och betydande händelser i hennes liv i enlighet med den humor som Birgit själv excellerade i. Och vill med denna föreställning också hålla liv i det kulturarv som hon både själv ikoniskt utgör och dessutom generöst understödde i sin älskade hembygd. \nViva la Diva spelas 2026 2\, 3\, 5 och 6 april.\n4 föreställningar med eller utan måltid kl 17.00 pjäsen kl 19.00.\nFöreställningarna görs med levande musik. \nVarmt välkomna till vår vildvuxna Vördnad!
URL:https://bastad.com/event/birgit-nilsson-ett-musikaliskt-lustspel/2026-04-03/
LOCATION:Grevieparken\, Hålarpsvägen 14\, Grevie\, 26962\, Sweden
CATEGORIES:Musik och Konserter
ATTACH;FMTTYPE=image/png:https://bastad.com/wp-content/uploads/2025/12/Skarmbild-2025-12-22-094015.png
ORGANIZER;CN="Grevieparken":MAILTO:info@grevieparken.se
END:VEVENT
END:VCALENDAR