BEGIN:VCALENDAR
VERSION:2.0
PRODID:-//Visit Båstad - ECPv6.15.14//NONSGML v1.0//EN
CALSCALE:GREGORIAN
METHOD:PUBLISH
X-ORIGINAL-URL:https://bastad.com
X-WR-CALDESC:Händelser för Visit Båstad
REFRESH-INTERVAL;VALUE=DURATION:PT1H
X-Robots-Tag:noindex
X-PUBLISHED-TTL:PT1H
BEGIN:VTIMEZONE
TZID:Europe/Stockholm
BEGIN:DAYLIGHT
TZOFFSETFROM:+0100
TZOFFSETTO:+0200
TZNAME:CEST
DTSTART:20250330T010000
END:DAYLIGHT
BEGIN:STANDARD
TZOFFSETFROM:+0200
TZOFFSETTO:+0100
TZNAME:CET
DTSTART:20251026T010000
END:STANDARD
BEGIN:DAYLIGHT
TZOFFSETFROM:+0100
TZOFFSETTO:+0200
TZNAME:CEST
DTSTART:20260329T010000
END:DAYLIGHT
BEGIN:STANDARD
TZOFFSETFROM:+0200
TZOFFSETTO:+0100
TZNAME:CET
DTSTART:20261025T010000
END:STANDARD
BEGIN:DAYLIGHT
TZOFFSETFROM:+0100
TZOFFSETTO:+0200
TZNAME:CEST
DTSTART:20270328T010000
END:DAYLIGHT
BEGIN:STANDARD
TZOFFSETFROM:+0200
TZOFFSETTO:+0100
TZNAME:CET
DTSTART:20271031T010000
END:STANDARD
END:VTIMEZONE
BEGIN:VEVENT
DTSTART;TZID=Europe/Stockholm:20260709T193000
DTEND;TZID=Europe/Stockholm:20260709T210000
DTSTAMP:20260422T020331
CREATED:20260204T094725Z
LAST-MODIFIED:20260205T100937Z
UID:10000098-1783625400-1783630800@bastad.com
SUMMARY:Banna Sona Band på Norriken Sessions
DESCRIPTION:Succén är ett faktum\, efter en höst med utsålda konserthus över hela Sverige\, radiohiten ”Til the music starts again” och hyllningar från både publik och media så kommer Banna Sona Band för första gången till Båstad och vackra Norrviken. Kalle Moraeus och Frida Öhrn har handplockat musiker\, var och en noga utvalda för att skapa den magi som Banna Sona Band vill uppnå.
URL:https://bastad.com/event/banna-sona-band-pa-norriken-sessions/
LOCATION:Norrvikens Trädgårdar\, Kattviksvägen 233\, Båstad\, Skåne\, 26933\, Sweden
CATEGORIES:Musik och Konserter
ATTACH;FMTTYPE=image/jpeg:https://bastad.com/wp-content/uploads/2026/02/8.-Banna_Sona_Band_2025_TV_liggande.jpg
ORGANIZER;CN="Krall":MAILTO:info@krall.se
END:VEVENT
END:VCALENDAR