BEGIN:VCALENDAR
VERSION:2.0
PRODID:-//Visit Båstad - ECPv6.15.14//NONSGML v1.0//EN
CALSCALE:GREGORIAN
METHOD:PUBLISH
X-ORIGINAL-URL:https://bastad.com
X-WR-CALDESC:Händelser för Visit Båstad
REFRESH-INTERVAL;VALUE=DURATION:PT1H
X-Robots-Tag:noindex
X-PUBLISHED-TTL:PT1H
BEGIN:VTIMEZONE
TZID:Europe/Stockholm
BEGIN:DAYLIGHT
TZOFFSETFROM:+0100
TZOFFSETTO:+0200
TZNAME:CEST
DTSTART:20250330T010000
END:DAYLIGHT
BEGIN:STANDARD
TZOFFSETFROM:+0200
TZOFFSETTO:+0100
TZNAME:CET
DTSTART:20251026T010000
END:STANDARD
BEGIN:DAYLIGHT
TZOFFSETFROM:+0100
TZOFFSETTO:+0200
TZNAME:CEST
DTSTART:20260329T010000
END:DAYLIGHT
BEGIN:STANDARD
TZOFFSETFROM:+0200
TZOFFSETTO:+0100
TZNAME:CET
DTSTART:20261025T010000
END:STANDARD
BEGIN:DAYLIGHT
TZOFFSETFROM:+0100
TZOFFSETTO:+0200
TZNAME:CEST
DTSTART:20270328T010000
END:DAYLIGHT
BEGIN:STANDARD
TZOFFSETFROM:+0200
TZOFFSETTO:+0100
TZNAME:CET
DTSTART:20271031T010000
END:STANDARD
END:VTIMEZONE
BEGIN:VEVENT
DTSTART;VALUE=DATE:20260731
DTEND;VALUE=DATE:20260804
DTSTAMP:20260420T172945
CREATED:20251222T080858Z
LAST-MODIFIED:20251222T081058Z
UID:10000071-1785463200-1785722399@bastad.com
SUMMARY:Junior-SM Discgolf 2026
DESCRIPTION:Årets Junior-SM i Discgolf spelas på Äppelgården i Båstad. Se våra framtida stjärnor göra upp om titeln direkt här i Båstad. \nFri entré! \nDagarna före SM finns svenska Juniorlandslaget i Discgolf på plats för uppvärmning och träning. Kanske det perfekta tillfället att se våra bästa spelare kasta och träffa andra discgolfentusiaster och utbyta tips\, erfarenheter med mera.
URL:https://bastad.com/event/junior-sm-discgolf-2026/
LOCATION:Äppelgården\, Hallandsvägen 400\, Båstad\, 269 96\, Sweden
CATEGORIES:Sport och Friluftsliv
ATTACH;FMTTYPE=image/jpeg:https://bastad.com/wp-content/uploads/2025/12/appelgarden-discgolf.jpg
ORGANIZER;CN="Svenska Discgolff%C3%B6rbundet":MAILTO:info@svenskdiscgolf.se
END:VEVENT
END:VCALENDAR