BEGIN:VCALENDAR
VERSION:2.0
PRODID:-//Visit Båstad - ECPv6.15.14//NONSGML v1.0//EN
CALSCALE:GREGORIAN
METHOD:PUBLISH
X-ORIGINAL-URL:https://bastad.com
X-WR-CALDESC:Händelser för Visit Båstad
REFRESH-INTERVAL;VALUE=DURATION:PT1H
X-Robots-Tag:noindex
X-PUBLISHED-TTL:PT1H
BEGIN:VTIMEZONE
TZID:Europe/Stockholm
BEGIN:DAYLIGHT
TZOFFSETFROM:+0100
TZOFFSETTO:+0200
TZNAME:CEST
DTSTART:20250330T010000
END:DAYLIGHT
BEGIN:STANDARD
TZOFFSETFROM:+0200
TZOFFSETTO:+0100
TZNAME:CET
DTSTART:20251026T010000
END:STANDARD
BEGIN:DAYLIGHT
TZOFFSETFROM:+0100
TZOFFSETTO:+0200
TZNAME:CEST
DTSTART:20260329T010000
END:DAYLIGHT
BEGIN:STANDARD
TZOFFSETFROM:+0200
TZOFFSETTO:+0100
TZNAME:CET
DTSTART:20261025T010000
END:STANDARD
BEGIN:DAYLIGHT
TZOFFSETFROM:+0100
TZOFFSETTO:+0200
TZNAME:CEST
DTSTART:20270328T010000
END:DAYLIGHT
BEGIN:STANDARD
TZOFFSETFROM:+0200
TZOFFSETTO:+0100
TZNAME:CET
DTSTART:20271031T010000
END:STANDARD
END:VTIMEZONE
BEGIN:VEVENT
DTSTART;VALUE=DATE:20260713
DTEND;VALUE=DATE:20260721
DTSTAMP:20260421T042919
CREATED:20251022T040458Z
LAST-MODIFIED:20251022T053400Z
UID:10000003-1783908000-1784512799@bastad.com
SUMMARY:Nordea Open ATP
DESCRIPTION:Upplev tennis i världsklass när Nordea Open ATP tar plats i Båstad – en av sommarens stora sporthändelser. Världens främsta herrspelare möts på de legendariska grusbanorna vid havet för att kämpa om titeln i en av Sveriges mest prestigefyllda turneringar. Här kombineras toppidrott med sommaridyll\, strandliv och festlig atmosfär – en upplevelse utöver det vanliga i tennisens huvudstad Båstad.
URL:https://bastad.com/event/nordea-open-atp/
LOCATION:Båstad\, Sweden
CATEGORIES:Tennis
ATTACH;FMTTYPE=image/jpeg:https://bastad.com/wp-content/uploads/2023/09/Naringsliv-Bastad-bli-medlem-i-Bjarehalvons-storsta-natverk-1-scaled-e1761118421342.jpg
ORGANIZER;CN="Nordea Open":MAILTO:info@nordeaopen.se
END:VEVENT
END:VCALENDAR