BEGIN:VCALENDAR
VERSION:2.0
PRODID:-//Visit Båstad - ECPv6.15.14//NONSGML v1.0//EN
CALSCALE:GREGORIAN
METHOD:PUBLISH
X-ORIGINAL-URL:https://bastad.com
X-WR-CALDESC:Händelser för Visit Båstad
REFRESH-INTERVAL;VALUE=DURATION:PT1H
X-Robots-Tag:noindex
X-PUBLISHED-TTL:PT1H
BEGIN:VTIMEZONE
TZID:Europe/Stockholm
BEGIN:DAYLIGHT
TZOFFSETFROM:+0100
TZOFFSETTO:+0200
TZNAME:CEST
DTSTART:20250330T010000
END:DAYLIGHT
BEGIN:STANDARD
TZOFFSETFROM:+0200
TZOFFSETTO:+0100
TZNAME:CET
DTSTART:20251026T010000
END:STANDARD
BEGIN:DAYLIGHT
TZOFFSETFROM:+0100
TZOFFSETTO:+0200
TZNAME:CEST
DTSTART:20260329T010000
END:DAYLIGHT
BEGIN:STANDARD
TZOFFSETFROM:+0200
TZOFFSETTO:+0100
TZNAME:CET
DTSTART:20261025T010000
END:STANDARD
BEGIN:DAYLIGHT
TZOFFSETFROM:+0100
TZOFFSETTO:+0200
TZNAME:CEST
DTSTART:20270328T010000
END:DAYLIGHT
BEGIN:STANDARD
TZOFFSETFROM:+0200
TZOFFSETTO:+0100
TZNAME:CET
DTSTART:20271031T010000
END:STANDARD
END:VTIMEZONE
BEGIN:VEVENT
DTSTART;VALUE=DATE:20260705
DTEND;VALUE=DATE:20260711
DTSTAMP:20260421T042657
CREATED:20260409T093845Z
LAST-MODIFIED:20260409T093845Z
UID:10000166-1783209600-1783727999@bastad.com
SUMMARY:Kidsweek på Båstad Camping
DESCRIPTION:🎉 Kidsweek på Båstad Camping – Sommarens roligaste vecka för barn! 🌞 \nGör er redo för en vecka fylld av skratt\, lek och massor av roliga aktiviteter! Under Kidsweek på Båstad Camping förvandlas campingen till ett riktigt paradis för barnen. Här väntar allt från spännande tävlingar och kreativa pysselstunder till lek\, sport och nya kompisar. \nDet blir dagar fyllda med energi\, äventyr och minnen som barnen kommer prata om långt efter att sommaren är slut. Perfekt för hela familjen – medan barnen har fullt upp med roliga aktiviteter kan ni njuta av allt det härliga som Båstad och campingen har att erbjuda. \n📅 Det fullständiga schemat släpps inom kort – håll utkik så att ni inte missar något! \nVi längtar efter att skapa en oförglömlig vecka tillsammans med er! 🌈
URL:https://bastad.com/event/kidsweek-pa-bastad-camping/
LOCATION:Båstad\, Sweden
CATEGORIES:Familj och Barn
ATTACH;FMTTYPE=image/jpeg:https://bastad.com/wp-content/uploads/2026/04/IMG_5335-copy-scaled.jpg
END:VEVENT
BEGIN:VEVENT
DTSTART;VALUE=DATE:20260706
DTEND;VALUE=DATE:20260713
DTSTAMP:20260421T042657
CREATED:20251022T040103Z
LAST-MODIFIED:20251022T053608Z
UID:10000002-1783303200-1783821599@bastad.com
SUMMARY:Nordea Open WTA
DESCRIPTION:Upplev tennis i världsklass i hjärtat av Båstad under Nordea Open WTA – Sveriges främsta damturnering i tennis. Varje sommar samlas internationella toppspelare på de klassiska grusbanorna vid havet för att bjuda publiken på intensiva matcher och en unik stämning fylld av energi\, elegans och passion. Utanför banorna väntar härliga sommarkvällar\, livemusik\, god mat och den speciella atmosfär som gör Båstad till Nordens tenniscentrum.
URL:https://bastad.com/event/nordea-open-wta/
LOCATION:Båstad\, Sweden
CATEGORIES:Tennis
ATTACH;FMTTYPE=image/webp:https://bastad.com/wp-content/uploads/2023/10/Nordea-open-tennis-Bastad-Biljetter-e1761118556192.webp
ORGANIZER;CN="Nordea Open":MAILTO:info@nordeaopen.se
END:VEVENT
BEGIN:VEVENT
DTSTART;TZID=Europe/Stockholm:20260710T193000
DTEND;TZID=Europe/Stockholm:20260710T193000
DTSTAMP:20260421T042657
CREATED:20260205T093633Z
LAST-MODIFIED:20260205T100747Z
UID:10000106-1783711800-1783711800@bastad.com
SUMMARY:Tommy Körberg på Norrviken Sessions
DESCRIPTION:En av Sveriges mest älskade röster\, Tommy Körberg\, gästar Norrviken sommaren 2026. Tillsammans med sin sexmannaorkester – några av landets mest erfarna musiker – bjuder han på välkända klassiker ur en lång och omtyckt karriär. \nDet blir en varm och minnesrik kväll fylld av sångglädje och en röst som bär hela vägen in i hjärtat.\n”Musik är språkets längtan efter toner. Toner som vill tala till ditt inre\, inte för att lösa problem utan ge dig anledning att höja blicken och se och höra din medmänniskas liknande längtan”\, hälsar Tommy Körberg. \nEn konsert att se fram emot – i en miljö som låter tonerna få blomma ut på sitt allra vackraste sätt. Insläpp kl. 17:30.
URL:https://bastad.com/event/tommy-korberg-pa-norrviken-sessions/
LOCATION:Norrvikens Trädgårdar\, Kattviksvägen 233\, Båstad\, Skåne\, 26933\, Sweden
CATEGORIES:Musik och Konserter
ATTACH;FMTTYPE=image/jpeg:https://bastad.com/wp-content/uploads/2026/02/Bild8.jpg
ORGANIZER;CN="Krall":MAILTO:info@krall.se
END:VEVENT
END:VCALENDAR