BEGIN:VCALENDAR
VERSION:2.0
PRODID:-//Visit Båstad - ECPv6.15.14//NONSGML v1.0//EN
CALSCALE:GREGORIAN
METHOD:PUBLISH
X-WR-CALNAME:Visit Båstad
X-ORIGINAL-URL:https://bastad.com
X-WR-CALDESC:Händelser för Visit Båstad
REFRESH-INTERVAL;VALUE=DURATION:PT1H
X-Robots-Tag:noindex
X-PUBLISHED-TTL:PT1H
BEGIN:VTIMEZONE
TZID:Europe/Stockholm
BEGIN:DAYLIGHT
TZOFFSETFROM:+0100
TZOFFSETTO:+0200
TZNAME:CEST
DTSTART:20250330T010000
END:DAYLIGHT
BEGIN:STANDARD
TZOFFSETFROM:+0200
TZOFFSETTO:+0100
TZNAME:CET
DTSTART:20251026T010000
END:STANDARD
BEGIN:DAYLIGHT
TZOFFSETFROM:+0100
TZOFFSETTO:+0200
TZNAME:CEST
DTSTART:20260329T010000
END:DAYLIGHT
BEGIN:STANDARD
TZOFFSETFROM:+0200
TZOFFSETTO:+0100
TZNAME:CET
DTSTART:20261025T010000
END:STANDARD
BEGIN:DAYLIGHT
TZOFFSETFROM:+0100
TZOFFSETTO:+0200
TZNAME:CEST
DTSTART:20270328T010000
END:DAYLIGHT
BEGIN:STANDARD
TZOFFSETFROM:+0200
TZOFFSETTO:+0100
TZNAME:CET
DTSTART:20271031T010000
END:STANDARD
END:VTIMEZONE
BEGIN:VEVENT
DTSTART;VALUE=DATE:20260612
DTEND;VALUE=DATE:20260615
DTSTAMP:20260420T191251
CREATED:20251215T080321Z
LAST-MODIFIED:20251215T082143Z
UID:10000052-1781229600-1781402399@bastad.com
SUMMARY:Summer On
DESCRIPTION:Upplev Sveriges snyggaste och skönaste musikfestival: Summer On\, den 12–13 juni 2026.\nFestivalen hålls på stranden utanför Hotel Skansen och bjuder på en spännande blandning av musikstilar\, artister och sommarkänsla. \n 
URL:https://bastad.com/event/summer-on/
LOCATION:Båstad\, Sweden
CATEGORIES:Musik och Konserter
ATTACH;FMTTYPE=image/jpeg:https://bastad.com/wp-content/uploads/2025/12/summeron22.jpg
ORGANIZER;CN="Summer On":MAILTO:info@summeron.se
END:VEVENT
END:VCALENDAR